BEGIN:VCALENDAR
VERSION:2.0
PRODID:-//ChamberMaster//Event Calendar 2.0//EN
METHOD:PUBLISH
X-PUBLISHED-TTL:P3D
REFRESH-INTERVAL:P3D
CALSCALE:GREGORIAN
BEGIN:VEVENT
DTSTART:20140517T170000Z
DTEND:20140517T190000Z
X-MICROSOFT-CDO-ALLDAYEVENT:FALSE
SUMMARY:National University Open House/Campus Tour
DESCRIPTION:At National University\, we specialize in education students who have busy lives. At the open house\, find out how you can balance life's obligations with rigorous studies: - Speak with faculty about your program of interest - Get all of your questions answered by admissions staff - Learn about financial aid and scholarships National University offers more than 130 degrees in business\, management\, education\, engineering\, technology\, media\, healthcare\, professional studies\, and liberal arts. Application fee will be waived for open house attendees.
X-ALT-DESC;FMTTYPE=text/html:At National University\, we specialize in education students who have busy lives. At the open house\, find out how you can balance life&#39\;s obligations with rigorous studies: - Speak with faculty about your program of interest - Get all of your questions answered by admissions staff - Learn about financial aid and scholarships National University offers more than 130 degrees in business\, management\, education\, engineering\, technology\, media\, healthcare\, professional studies\, and liberal arts. Application fee will be waived for open house attendees.
LOCATION:3390 Harbor Boulevard\, Costa Mesa\, CA 92626
UID:e.887.8841
SEQUENCE:3
DTSTAMP:20260426T012809Z
URL:https://nocchamber-gzcms.preview.gochambermaster.com/events/details/national-university-open-house-campus-tour-8841
END:VEVENT

END:VCALENDAR
