BEGIN:VCALENDAR
VERSION:2.0
PRODID:-//ChamberMaster//Event Calendar 2.0//EN
METHOD:PUBLISH
X-PUBLISHED-TTL:P3D
REFRESH-INTERVAL:P3D
CALSCALE:GREGORIAN
BEGIN:VEVENT
DTSTART:20140313T010000Z
DTEND:20140313T020000Z
X-MICROSOFT-CDO-ALLDAYEVENT:FALSE
SUMMARY:National University-Information Session
DESCRIPTION:Find out about National University's programs in the School of Engineering\, Technology and Media. -Earn an application fee waiver just for attending. Refreshments provided.
X-ALT-DESC;FMTTYPE=text/html:Find out about National University&#39\;s programs in the School of Engineering\, Technology and Media. -Earn an application fee waiver just for attending. Refreshments provided.
LOCATION:Across from the California Pizza Kitchen in the Brea Mall. 2048 Brea Mall\, Brea\, CA 92821
UID:e.887.8735
SEQUENCE:3
DTSTAMP:20260425T225244Z
URL:https://nocchamber-gzcms.preview.gochambermaster.com/events/details/national-university-information-session-03-12-2014-8735
END:VEVENT

END:VCALENDAR
