BEGIN:VCALENDAR
VERSION:2.0
PRODID:-//ChamberMaster//Event Calendar 2.0//EN
METHOD:PUBLISH
X-PUBLISHED-TTL:P3D
REFRESH-INTERVAL:P3D
CALSCALE:GREGORIAN
BEGIN:VEVENT
DTSTART:20160830T150000Z
DTEND:20160831T013000Z
X-MICROSOFT-CDO-ALLDAYEVENT:FALSE
SUMMARY:National Association of Women in Real Estate Businesses - 3rd Annual Women's Diversity and Inclusion Conference
DESCRIPTION:The National Association of Women in Real Estate Businesses (NAWRB) is hosting their 3rd Annual Women's Diversity and Inclusion Conference on Tuesday\, August 30 and Wednesday\, August 31 in Costa Mesa\, California addressing the power and dynamics of current women buyers and women's homeownership to the importance of increasing the number of C-suite women in America's boardrooms. The conference has several women experts detailing the industry developments and issues to help them navigate the current professional landscape to their advantage. Major companies with a true investment in corporate social responsibility will provide insight into opportunities for women entrepreneurs. Attendees will also have a unique opportunity to network with others who are looking to invest in women-owned businesses.\n\n\n\nRegister today to secure your place at the table of opportunity\; your chance to explore the mortgage finance global impact on the future of housing. NAWRB's conference has two full days of informative sessions and decisive networking opportunities with leading industry professionals capped off by honoring our incredible Roaring Twenty Award Winners at our Fashion Show Gala featuring a live band and delectable cuisine.
X-ALT-DESC;FMTTYPE=text/html:The National Association of Women in Real Estate Businesses (NAWRB) is hosting their 3rd Annual Women&rsquo\;s Diversity and Inclusion Conference on Tuesday\, August 30&nbsp\;and Wednesday\, August 31&nbsp\;in Costa Mesa\, California addressing the power and dynamics of current women buyers and women&rsquo\;s homeownership to the importance of increasing the number of C-suite women in America&rsquo\;s boardrooms. The conference has several women experts detailing the industry developments and issues to help them navigate the current professional landscape to their advantage. Major companies with a true investment in corporate social responsibility will provide insight into opportunities for women entrepreneurs. Attendees will also have a unique opportunity to network with others who are looking to invest in women-owned businesses.<br />\n<br />\nRegister today to secure your place at the table of opportunity\; your chance to explore the mortgage finance global impact on the future of housing. NAWRB&rsquo\;s conference has two full days of informative sessions and decisive networking opportunities with leading industry professionals capped off by honoring our incredible Roaring Twenty Award Winners at our Fashion Show Gala featuring a live band and delectable cuisine.&nbsp\;
LOCATION:Hilton Orange County / Costa Mesa 3050 Bristol St Costa Mesa\, CA 92626
UID:e.887.14783
SEQUENCE:3
DTSTAMP:20260422T140947Z
URL:https://nocchamber-gzcms.preview.gochambermaster.com/events/details/national-association-of-women-in-real-estate-businesses-3rd-annual-women-s-diversity-and-inclusion-conference-14783
END:VEVENT

END:VCALENDAR
