BEGIN:VCALENDAR
VERSION:2.0
PRODID:-//ChamberMaster//Event Calendar 2.0//EN
METHOD:PUBLISH
X-PUBLISHED-TTL:P3D
REFRESH-INTERVAL:P3D
CALSCALE:GREGORIAN
BEGIN:VEVENT
DTSTART:20161218T200000Z
DTEND:20161219T000000Z
X-MICROSOFT-CDO-ALLDAYEVENT:FALSE
SUMMARY:Muckenthaler Holiday Festival
DESCRIPTION:This event will feature vendors\, food\, craft beer\, live entertainment\, arts & crafts activities for kids and even an opportunity to take a picture with Santa Claus. The live performances that will be featured include Ballet Folklorico Monte Alban\, local choirs and bands.
X-ALT-DESC;FMTTYPE=text/html:This event will feature vendors\, food\, craft beer\, live entertainment\, arts &amp\; crafts activities for kids and even an opportunity to take a picture with Santa Claus. The live performances that will be featured include Ballet Folklorico Monte Alban\, local choirs and bands.<br />\n&nbsp\;
LOCATION:The Muckenthaler Cultural Center 1201 W. Malvern Ave Fullerton\, CA 92833
UID:e.887.15577
SEQUENCE:3
DTSTAMP:20260421T235546Z
URL:https://nocchamber-gzcms.preview.gochambermaster.com/events/details/muckenthaler-holiday-festival-15577
END:VEVENT

END:VCALENDAR
