BEGIN:VCALENDAR
VERSION:2.0
PRODID:-//ChamberMaster//Event Calendar 2.0//EN
METHOD:PUBLISH
X-PUBLISHED-TTL:P3D
REFRESH-INTERVAL:P3D
CALSCALE:GREGORIAN
BEGIN:VEVENT
DTSTART:20181025T230000Z
DTEND:20181026T000000Z
X-MICROSOFT-CDO-ALLDAYEVENT:FALSE
SUMMARY:Muckenthaler Cultural Center - Ribbon Cutting Ceremony - State of the Art Recording Studio
DESCRIPTION:Join us for a ribbon cutting ceremony to celebrate the grand opening of Muckenthaler Cultural Center's State of the Art Recording Studio on Thursday\, October 25. The ribbon cutting ceremony is at 4:30 p.m.
X-ALT-DESC;FMTTYPE=text/html:Join us for a ribbon cutting ceremony to celebrate the grand opening of Muckenthaler Cultural Center&#39\;s<strong>&nbsp\;State of the Art Recording Studio</strong> on Thursday\, October 25. The ribbon cutting ceremony is at 4:30 p.m.
LOCATION:Muckenthaler Cultural Center 1201 W Malvern Ave. Fullerton\, CA 92833
UID:e.887.22793
SEQUENCE:3
DTSTAMP:20260423T030136Z
URL:https://nocchamber-gzcms.preview.gochambermaster.com/events/details/muckenthaler-cultural-center-ribbon-cutting-ceremony-state-of-the-art-recording-studio-22793
END:VEVENT

END:VCALENDAR
