BEGIN:VCALENDAR
VERSION:2.0
PRODID:-//ChamberMaster//Event Calendar 2.0//EN
METHOD:PUBLISH
X-PUBLISHED-TTL:P3D
REFRESH-INTERVAL:P3D
CALSCALE:GREGORIAN
BEGIN:VEVENT
DTSTART:20181026T023000Z
DTEND:20181026T040000Z
X-MICROSOFT-CDO-ALLDAYEVENT:FALSE
SUMMARY:Muckenthaler Cultural Center - Kid Ramos and the Memphis Kings
DESCRIPTION:The Muckenthaler Cultural Center will be hosting Kid Ramos and the Memphis Kings on Thursday\, October 25 at 7:30 p.m.
X-ALT-DESC;FMTTYPE=text/html:The Muckenthaler Cultural Center will be hosting <strong>Kid Ramos and the Memphis Kings&nbsp\;</strong>on Thursday\, October 25 at 7:30 p.m.
LOCATION:The Muckenthaler Cultural Center 1201 W. Malvern Ave. Fullerton\, CA 92833
UID:e.887.22709
SEQUENCE:3
DTSTAMP:20260423T064858Z
URL:https://nocchamber-gzcms.preview.gochambermaster.com/events/details/muckenthaler-cultural-center-kid-ramos-and-the-memphis-kings-22709
END:VEVENT

END:VCALENDAR
