BEGIN:VCALENDAR
VERSION:2.0
PRODID:-//ChamberMaster//Event Calendar 2.0//EN
METHOD:PUBLISH
X-PUBLISHED-TTL:P3D
REFRESH-INTERVAL:P3D
CALSCALE:GREGORIAN
BEGIN:VEVENT
DTSTART:20160723T033000Z
DTEND:20160723T053000Z
X-MICROSOFT-CDO-ALLDAYEVENT:FALSE
SUMMARY:Movies in the Park: The Good Dinosaur (PG)
DESCRIPTION:The City of Placentia and Republic Services presents Movies in the Park. This week's movie is The Good Dinosaur (2015). Refreshments & dinner options will be provided by local non-profit organizations for a nominal fee. *Titles subject to change.\n\n\n\nINCLEMENT WEATHER WILL CANCEL EVENT
X-ALT-DESC;FMTTYPE=text/html:The City of Placentia and Republic Services presents Movies in the Park. This week&#39\;s movie is The Good Dinosaur (2015). Refreshments &amp\; dinner options will be provided by local non-profit organizations for a nominal fee. *Titles subject to change.<br />\n<br />\nINCLEMENT WEATHER WILL CANCEL EVENT
LOCATION:Placentia Champions Sports Complex 505 N. Jefferson Ave. Placentia\, CA 92870
UID:e.887.14502
SEQUENCE:3
DTSTAMP:20260422T193548Z
URL:https://nocchamber-gzcms.preview.gochambermaster.com/events/details/movies-in-the-park-the-good-dinosaur-pg-14502
END:VEVENT

END:VCALENDAR
