BEGIN:VCALENDAR
VERSION:2.0
PRODID:-//ChamberMaster//Event Calendar 2.0//EN
METHOD:PUBLISH
X-PUBLISHED-TTL:P3D
REFRESH-INTERVAL:P3D
CALSCALE:GREGORIAN
BEGIN:VEVENT
DTSTART;VALUE=DATE:20160919
DTEND;VALUE=DATE:20160920
TRANSP:TRANSPARENT
X-MICROSOFT-CDO-ALLDAYEVENT:TRUE
SUMMARY:Morningside of Fullerton - Groundbreaking of Pitch & Putt and Pickle Ball Court
DESCRIPTION:Join Morningside of Fullerton for a Groundbreaking of Pitch & Putt and Pickle Ball Court at The Links at Morningside on Monday\, September 19\, from 10:30 a.m. to 11:30 a.m.
X-ALT-DESC;FMTTYPE=text/html:Join Morningside of Fullerton for a Groundbreaking of Pitch &amp\; Putt and Pickle Ball Court at The Links at Morningside on Monday\, September 19\, from 10:30 a.m. to 11:30 a.m.
LOCATION:Morningside of Fullerton 800 Morningside Dr. Fullerton\, CA 92835
UID:e.887.14802
SEQUENCE:3
DTSTAMP:20260422T165626Z
URL:https://nocchamber-gzcms.preview.gochambermaster.com/events/details/morningside-of-fullerton-groundbreaking-of-pitch-putt-and-pickle-ball-court-14802
END:VEVENT

END:VCALENDAR
