BEGIN:VCALENDAR
VERSION:2.0
PRODID:-//ChamberMaster//Event Calendar 2.0//EN
METHOD:PUBLISH
X-PUBLISHED-TTL:P3D
REFRESH-INTERVAL:P3D
CALSCALE:GREGORIAN
BEGIN:VEVENT
DTSTART:20160908T010000Z
DTEND:20160908T030000Z
X-MICROSOFT-CDO-ALLDAYEVENT:FALSE
SUMMARY:Meet Your Elected Representatives
DESCRIPTION:The North Orange County Chamber cordially invites you to join business and civic leaders at a reception honoring those elected to serve our community.\n\n\n\nSpecial Thanks to our Legislative Reception Sponsors:\n\n \n\nExecutive Sponsor\, Southern California Gas Company\n\n\n\nContributing Sponsor\, Metropolitan Water District\n\n \n\nEvent Sponsors:\n\nCalifornia Apartment Association\n\nStarkey Communications\n\nTownsend Public Affairs\, Inc.
X-ALT-DESC;FMTTYPE=text/html:The North Orange County Chamber cordially invites you to join business and civic leaders at a reception honoring those elected to serve our community.<br />\n<br />\n<span style="color:#403F42\;"><span style="font-family:arial\,sans-serif\;"><span style="font-size:10.0pt\;">Special Thanks to our Legislative Reception Sponsors:</span></span></span><br />\n&nbsp\;<br />\n<span style="color:#403F42\;"><span style="font-family:arial\,sans-serif\;"><span style="font-size:10.0pt\;">Executive Sponsor\, Southern California Gas Company</span></span></span><br />\n<br />\n<span style="color:#403F42\;"><span style="font-family:arial\,sans-serif\;"><span style="font-size:10.0pt\;">Contributing Sponsor\, Metropolitan Water District</span></span></span><br />\n&nbsp\;<br />\n<span style="color:#403F42\;"><span style="font-family:arial\,sans-serif\;"><span style="font-size:10.0pt\;">Event Sponsors:</span></span></span><br />\n<span style="color:#403F42\;"><span style="font-family:arial\,sans-serif\;"><span style="font-size:10.0pt\;">California Apartment Association</span></span></span><br />\n<span style="color:#403F42\;"><span style="font-family:arial\,sans-serif\;"><span style="font-size:10.0pt\;">Starkey Communications</span></span></span><br />\n<span style="color:#403F42\;"><span style="font-family:arial\,sans-serif\;"><span style="font-size:10.0pt\;">Townsend Public Affairs\, Inc.</span></span></span><br />\n<br />\n&nbsp\;
LOCATION:Los Coyotes Country Club 8888 Los Coyotes Dr. Buena Park\, CA 90621
UID:e.887.14758
SEQUENCE:3
DTSTAMP:20260422T100704Z
URL:https://nocchamber-gzcms.preview.gochambermaster.com/events/details/meet-your-elected-representatives-14758
END:VEVENT

END:VCALENDAR
