BEGIN:VCALENDAR
VERSION:2.0
PRODID:-//ChamberMaster//Event Calendar 2.0//EN
METHOD:PUBLISH
X-PUBLISHED-TTL:P3D
REFRESH-INTERVAL:P3D
CALSCALE:GREGORIAN
BEGIN:VEVENT
DTSTART:20150406T160000Z
DTEND:20150406T203000Z
X-MICROSOFT-CDO-ALLDAYEVENT:FALSE
SUMMARY:Meet With an Experienced Mentor This Week!
DESCRIPTION:These experienced business mentors have one hour appointments available for the coming week\, you choose your mentor!\n\n\n\nExperienced business mentors will give you one hour of their time this coming week at no charge to discuss any business issues that you may have. There is no catch! Here are the mentors with available appointments for the coming week:\n\n\n\nMonday\, April 6: Santa Ana\n\nJack Schrader - Expertise: Accounting\, Bookkeeping\, Business Software\, Cash Flow Forecasting\, Business Plans\, Financial Planning\, Construction Business - Residential\, Consulting\, Inventory Management\, Manufacturing\, Strategic Planning\, Mergers & Acquisitions. \n\n\n\nTuesday\, April 7: Santa Ana\n\nHoward Hawkins - Expertise: Banking\, Financial Planning\, Insurance and Pension Issues\, Real Estate\, Business Plans and Strategies\, Accounting and Finance. \n\n\n\nRobert Lichtsinn - Expertise: Manufacturing\, Marketing Through Manufacturers Reps and Distributors\, Business to Business Sales. \n\n\n\nBruce Schoenegge - Expertise: Marketing\, Market Research and Analysis\, Sales\, Retail/Wholesale Distribution\, Recruiting and Training Sales Personnel\, Operational structures and procedures.  \n\n\n\nWednesday\, April 8: Santa Ana\n\nVas Arora - Expertise: Mechanical Engineering\, Research & Development\, Manufacturing\, Real Estate-Investing & Management\, Retail Merchandising\, Sales and Marketing\, Small Business Accounting & Finance. \n\n\n\nEsther Delurgio - Expertise: Automotive Industry\,Computer Information Systems\, Computer Hardware\, E-Commerce\, Computer Software Development\, Business Plans\, Strategic Planning\, Manufacturing\, Sales & Marketing\, International Business\, Transportation\, Warehousing. \n\n\n\nJim Fulton - Expertise: Patents / Intellectual Property\, Import / Export\, Government Procurement\, Production Management\, Business Plan\, Business Start-up. \n\n\n\nThursday\, April 9: Santa Ana\n\nJack McSunas - Expertise: Business Plans\, Start-Ups\, Mergers & Acquisitions\, Turnaround Specialist\, Buy/Sell Business\, International Trade Import/ Export\, Sales Retail/Wholesale\, Marketing Strategy\, Manufacturers Rep\, Advertising\, Consumer Product Distribution\, Food Industry\, Trucking. \n\n\n\nElissa Warantz - Expertise: Legal Issues\, Incorporation\, Business Formation\, Copyright and Trademark\, Procurement\, Construction\, Engineering Agreements\, General Contract Negotiation\, Employment\, Insurance\, Workplace Safety\, Environmental Regulations and Internet Law. \n\n\n\nFriday\, April 10: Santa Ana\n\nBarry McKinley - Expertise: Business Start-ups\, Human Resources\, Medical Equipment\, Mergers & Acquisitions\, Motorsports Industry (Motorcycles & Watercraft)\, Marketing & Sales\, Managing Manufacturer's Reps\, Negotiations\, Retail & Wholesale Distribution. \n\n\n\nJohn Rau - Expertise: Aviation/Aerospace\, Business Plans & Strategies\, Consulting\, Engineering\, Research & Development\, Government Contracts\, Marketing & Market Research\, Military Electronics Systems\, Patents / Intellectual Property\, Start-up Business Counseling.
X-ALT-DESC;FMTTYPE=text/html:These experienced business mentors have one hour appointments available for the coming week\, you choose your mentor!<br />\n<br />\nExperienced business mentors will give you one hour of their time this coming week at no charge to discuss any business issues that you may have. There is no catch! Here are the mentors with available appointments for the coming week:<br />\n<br />\nMonday\, April 6: Santa Ana<br />\n<strong><span style="font-family:arial\,sans-serif\;"><span style="font-size:10.0pt\;">Jack Schrader - Expertise:</span></span></strong><span style="font-family:arial\,sans-serif\;"><span style="font-size:10.0pt\;"> Accounting\, Bookkeeping\, Business Software\, Cash Flow Forecasting\, Business Plans\, Financial Planning\, Construction Business - Residential\, Consulting\, Inventory Management\, Manufacturing\, Strategic Planning\, Mergers &amp\; Acquisitions.&nbsp\;</span></span><br />\n<br />\nTuesday\, April 7: Santa Ana<br />\n<strong><span style="font-family:arial\,sans-serif\;"><span style="font-size:10.0pt\;">Howard Hawkins - Expertise: </span></span></strong><span style="font-family:arial\,sans-serif\;"><span style="font-size:10.0pt\;">Banking\, Financial Planning\, Insurance and Pension Issues\, Real Estate\, Business Plans and Strategies\, Accounting and Finance.&nbsp\;</span></span><br />\n<br />\n<strong><span style="font-family:arial\,sans-serif\;"><span style="font-size:10.0pt\;">Robert Lichtsinn - Expertise:</span></span></strong><span style="font-family:arial\,sans-serif\;"><span style="font-size:10.0pt\;"> Manufacturing\, Marketing Through Manufacturers Reps and Distributors\, Business to Business Sales.&nbsp\;</span></span><br />\n<br />\n<strong><span style="font-family:arial\,sans-serif\;"><span style="font-size:10.0pt\;">Bruce Schoenegge -&nbsp\;Expertise:</span></span></strong><span style="font-family:arial\,sans-serif\;"><span style="font-size:10.0pt\;"> Marketing\, Market Research and Analysis\, Sales\, Retail/Wholesale Distribution\, Recruiting and Training Sales Personnel\, Operational structures and procedures. &nbsp\;</span></span><br />\n<br />\nWednesday\, April 8: Santa Ana<br />\n<strong><span style="font-family:arial\,sans-serif\;"><span style="font-size:10.0pt\;">Vas Arora - Expertise: </span></span></strong><span style="font-family:arial\,sans-serif\;"><span style="font-size:10.0pt\;">Mechanical Engineering\, Research &amp\; Development\, Manufacturing\, Real Estate-Investing &amp\; Management\, Retail Merchandising\, Sales and Marketing\, Small Business Accounting &amp\; Finance.&nbsp\;</span></span><br />\n<br />\n<strong><span style="font-family:arial\,sans-serif\;"><span style="font-size:10.0pt\;">Esther Delurgio - Expertise: </span></span></strong><span style="font-family:arial\,sans-serif\;"><span style="font-size:10.0pt\;">Automotive Industry\,Computer Information Systems\, Computer Hardware\, E-Commerce\, Computer Software Development\, Business Plans\, Strategic Planning\, Manufacturing\, Sales &amp\; Marketing\, International Business\, Transportation\, Warehousing.&nbsp\;</span></span><br />\n<br />\n<strong><span style="font-family:arial\,sans-serif\;"><span style="font-size:10.0pt\;">Jim Fulton - Expertise:</span></span></strong><span style="font-family:arial\,sans-serif\;"><span style="font-size:10.0pt\;">&nbsp\;Patents / Intellectual Property\, Import / Export\, Government Procurement\, Production Management\, Business Plan\, Business Start-up.&nbsp\;</span></span><br />\n<br />\nThursday\, April 9: Santa Ana<br />\n<strong><span style="font-family:arial\,sans-serif\;"><span style="font-size:10.0pt\;">Jack McSunas - Expertise:</span></span></strong><span style="font-family:arial\,sans-serif\;"><span style="font-size:10.0pt\;">&nbsp\;Business Plans\, Start-Ups\, Mergers &amp\; Acquisitions\, Turnaround Specialist\, Buy/Sell Business\, International Trade Import/ Export\, Sales Retail/Wholesale\, Marketing Strategy\, Manufacturers Rep\, Advertising\, Consumer Product Distribution\, Food Industry\, Trucking.&nbsp\;</span></span><br />\n<br />\n<strong><span style="font-family:arial\,sans-serif\;"><span style="font-size:10.0pt\;">Elissa Warantz - Expertise: </span></span></strong><span style="font-family:arial\,sans-serif\;"><span style="font-size:10.0pt\;">Legal Issues\, Incorporation\, Business Formation\, Copyright and Trademark\, Procurement\, Construction\, Engineering Agreements\, General Contract Negotiation\, Employment\, Insurance\, Workplace Safety\, Environmental Regulations and Internet Law.&nbsp\;</span></span><br />\n<br />\nFriday\, April 10: Santa Ana<br />\n<strong><span style="font-family:arial\,sans-serif\;"><span style="font-size:10.0pt\;">Barry McKinley - Expertise:</span></span></strong><span style="font-family:arial\,sans-serif\;"><span style="font-size:10.0pt\;"> Business Start-ups\, Human Resources\, Medical Equipment\, Mergers &amp\; Acquisitions\, Motorsports Industry (Motorcycles &amp\; Watercraft)\, Marketing &amp\; Sales\, Managing Manufacturer&#39\;s Reps\, Negotiations\, Retail &amp\; Wholesale Distribution.&nbsp\;</span></span><br />\n<br />\n<strong><span style="font-family:arial\,sans-serif\;"><span style="font-size:10.0pt\;">John Rau - Expertise:</span></span></strong><span style="font-family:arial\,sans-serif\;"><span style="font-size:10.0pt\;"> Aviation/Aerospace\, Business Plans &amp\; Strategies\, Consulting\, Engineering\, Research &amp\; Development\, Government Contracts\, Marketing &amp\; Market Research\, Military Electronics Systems\, Patents / Intellectual Property\, Start-up Business Counseling.&nbsp\;</span></span><br />\n&nbsp\;
LOCATION:SCORE/SBA Offices\, 200 W. Santa Ana Blvd.\, Ste. 700\, Santa Ana.
UID:e.887.10974
SEQUENCE:3
DTSTAMP:20260424T225110Z
URL:https://nocchamber-gzcms.preview.gochambermaster.com/events/details/meet-with-an-experienced-mentor-this-week-10974
END:VEVENT

END:VCALENDAR
