BEGIN:VCALENDAR
VERSION:2.0
PRODID:-//ChamberMaster//Event Calendar 2.0//EN
METHOD:PUBLISH
X-PUBLISHED-TTL:P3D
REFRESH-INTERVAL:P3D
CALSCALE:GREGORIAN
BEGIN:VEVENT
DTSTART:20151029T163000Z
DTEND:20151029T213000Z
X-MICROSOFT-CDO-ALLDAYEVENT:FALSE
SUMMARY:Marketing\, Social Media & Technology Tips for Your Business
DESCRIPTION:Even in the best of times\, many companies are coping with shrinking budgets\, keeping pace with new technology\, along with their staff and members using a variety of devices and applications. Learn how to better communicate your message using current and new technology trends by taking advantage of this workshop.\n\n \n\nSouthern California Association of Chamber of Commerce Executives presents this dynamic and interactive full-day workshop for all business professionals:\n\n	Mobile content and images that will drive your company\n	Build your brand with marketing and advertising apps and web tools\n	Current market trends\n	Is your website helping or hurting your business?\n	Analytics: How they can tell your company's future?\n\n \n\nContact the North Orange County Chamber to register for this compelling workshop\, (714) 871-3100.\n\n \n\nRegistration fees:\n\n$70 per person (Before October 2)\n\n$85 per person (After October 2)\n\n \n\nRegistration includes morning coffee\, lunch and workshop materials.
X-ALT-DESC;FMTTYPE=text/html:Even in the best of times\, many companies are coping with shrinking budgets\, keeping pace with new technology\, along with their staff and members using a variety of devices and applications. Learn how to better communicate your message using current and new technology trends by taking advantage of this workshop.<br />\n&nbsp\;<br />\nSouthern California Association of Chamber of Commerce Executives presents this dynamic and interactive full-day workshop for all business professionals:\n<ul>\n	<li style="margin-top:0in\;margin-right:0in\;margin-bottom:0in\;margin-bottom:.0001pt\;text-align:justify\;">Mobile content and images that will drive your company</li>\n	<li style="margin-top:0in\;margin-right:0in\;margin-bottom:0in\;margin-bottom:.0001pt\;text-align:justify\;">Build your brand with marketing and advertising apps and web tools</li>\n	<li style="margin-top:0in\;margin-right:0in\;margin-bottom:0in\;margin-bottom:.0001pt\;text-align:justify\;">Current market trends</li>\n	<li style="margin-top:0in\;margin-right:0in\;margin-bottom:0in\;margin-bottom:.0001pt\;text-align:justify\;">Is your website helping or hurting your business?</li>\n	<li style="margin-top:0in\;margin-right:0in\;margin-bottom:0in\;margin-bottom:.0001pt\;text-align:justify\;">Analytics: How they can tell your company&rsquo\;s future?</li>\n</ul>\n&nbsp\;<br />\nContact the North Orange County Chamber to register for this compelling workshop\, (714) 871-3100.<br />\n&nbsp\;<br />\nRegistration fees:<br />\n$70 per person (Before October 2)<br />\n$85 per person (After October 2)<br />\n&nbsp\;<br />\nRegistration includes morning coffee\, lunch and workshop materials.&nbsp\;
LOCATION:Microsoft Campus 13031 W. Jefferson\, Ste. 200 Los Angeles\, Ca 90094
UID:e.887.12335
SEQUENCE:3
DTSTAMP:20260424T020006Z
URL:https://nocchamber-gzcms.preview.gochambermaster.com/events/details/marketing-social-media-technology-tips-for-your-business-12335
END:VEVENT

END:VCALENDAR
