BEGIN:VCALENDAR
VERSION:2.0
PRODID:-//ChamberMaster//Event Calendar 2.0//EN
METHOD:PUBLISH
X-PUBLISHED-TTL:P3D
REFRESH-INTERVAL:P3D
CALSCALE:GREGORIAN
BEGIN:VEVENT
DTSTART:20170615T000000Z
DTEND:20170615T030000Z
X-MICROSOFT-CDO-ALLDAYEVENT:FALSE
SUMMARY:Marketing and Branding Your Business for Success
DESCRIPTION:Help your small business build and leverage a successful brand! Hear from experts\, engage in brand-building exercises\, and take part in a round-table discussion with experts and peers.\n\n\n\nArrive early and receive a complimentary professional headshot. Space is limited- RSVP today to reserve your spot! Free Headshots start at 5:00 p.m.
X-ALT-DESC;FMTTYPE=text/html:Help your small business build and leverage a successful brand! Hear from experts\, engage in brand-building exercises\, and take part in a round-table discussion with experts and peers.<br>\n<br>\nArrive early and receive a complimentary professional headshot. Space is limited- RSVP today to reserve your spot! Free Headshots start at 5:00 p.m.
LOCATION:Canon USA 123 Paularino Ave\, Costa Mesa\, CA 92626
UID:e.887.16158
SEQUENCE:3
DTSTAMP:20260421T003240Z
URL:https://nocchamber-gzcms.preview.gochambermaster.com/events/details/marketing-and-branding-your-business-for-success-16158
END:VEVENT

END:VCALENDAR
