BEGIN:VCALENDAR
VERSION:2.0
PRODID:-//ChamberMaster//Event Calendar 2.0//EN
METHOD:PUBLISH
X-PUBLISHED-TTL:P3D
REFRESH-INTERVAL:P3D
CALSCALE:GREGORIAN
BEGIN:VEVENT
DTSTART:20140301T180000Z
DTEND:20140302T003000Z
X-MICROSOFT-CDO-ALLDAYEVENT:FALSE
SUMMARY:Mardi Gras for Autism
DESCRIPTION:This family-friendly\, all abilities\, free event is designed to encourage families to enjoy the fun of Mardi Gras while raising money for Fullerton special education programs\, featuring many activities appropriate for children of all ages and abilities\, including: Aquarium of the Pacific\, Medieval Times\, A.skate\, Eye Force One\, Game Trucks\, Magic by David Bonfidini\, Autism Live\, Police Exhibit\, Fire Exhibit\, The Dixiedelics\, Karaoke hosted by Jake Popoff\, CF Dance Academy\, Fullerton High School Circus Club\, Bounce House Zone\, Face painting\, Bourbon Street and Fullerton Cares.
X-ALT-DESC;FMTTYPE=text/html:This family-friendly\, all abilities\, free event is designed to encourage families to enjoy the fun of Mardi Gras while raising money for Fullerton special education programs\, featuring many activities appropriate for children of all ages and abilities\, including: Aquarium of the Pacific\, Medieval Times\, A.skate\, Eye Force One\, Game Trucks\, Magic by David Bonfidini\, Autism Live\, Police Exhibit\, Fire Exhibit\, The Dixiedelics\, Karaoke hosted by Jake Popoff\, CF Dance Academy\, Fullerton High School Circus Club\, Bounce House Zone\, Face painting\, Bourbon Street and Fullerton Cares.
LOCATION:Bourbon Street Fullerton
UID:e.887.8672
SEQUENCE:3
DTSTAMP:20260426T000613Z
URL:https://nocchamber-gzcms.preview.gochambermaster.com/events/details/mardi-gras-for-autism-8672
END:VEVENT

END:VCALENDAR
