BEGIN:VCALENDAR
VERSION:2.0
PRODID:-//ChamberMaster//Event Calendar 2.0//EN
METHOD:PUBLISH
X-PUBLISHED-TTL:P3D
REFRESH-INTERVAL:P3D
CALSCALE:GREGORIAN
BEGIN:VEVENT
DTSTART:20180407T180000Z
DTEND:20180407T230000Z
X-MICROSOFT-CDO-ALLDAYEVENT:FALSE
SUMMARY:Mardi Gras for Autism 2018
DESCRIPTION:To support autism charities and special education\, Bourbon Street Bar and Grill's nineth annual FREE family carnival benefit\, 'Mardi Gras for Autism' will be held outside Bourbon Street Bar located at 110 E. Commonwealth Ave. in Fullerton on Saturday\, April 7\, 2018\, from 11 a.m. to 4 p.m.\n\nThe family-friendly\, all abilities\, free event is designed to encourage families to enjoy the fun of Mardi Gras while raising money for Fullerton special education programs\, featuring many activities appropriate for children of all ages and abilities.\n\nABOUT MARDI GRAS FOR AUTISM: 'Mardi Gras for Autism' festival raises funds benefitting the Fullerton School District's autism programs. \n\nABOUT BOURBON STREET: Established in 2007\, Bourbon Street offers Southern Inspired cuisine in the heart of historic downtown Fullerton with a menu made entirely from scratch featuring farm fresh\, locally sourced ingredients.  In addition to a world-class selection of slow-aged bourbons and whiskies\, Bourbon Street features a wide array of bottled and draught beer\, as well as a comprehensive wine list.\n\n\n\nBourbon Street is located at 110 E. Commonwealth Ave\, Fullerton\, CA 92832 with 800 adjacent parking stalls. Reservations can be made at 714-626-0050.  http://bourbonstreetfullerton.com\n\nABOUT AUTISM: According to the U.S. Centers for Disease Control (CDC)\, autism now affects about 1 in every 68 American children\, including 1 in 42 boys. Autism is a complex condition that affects a person's ability to communicate and develop social relationships\, and is often accompanied by behavioral challenges.
X-ALT-DESC;FMTTYPE=text/html:<p>To support autism charities and special education\, Bourbon Street Bar and Grill&rsquo\;s nineth annual FREE family carnival benefit\, &lsquo\;Mardi Gras for Autism&rsquo\; will be held outside Bourbon Street Bar located at 110 E. Commonwealth Ave. in Fullerton on Saturday\, April 7\, 2018\, from 11 a.m. to 4 p.m.</p>\n\n<p>The family-friendly\, all abilities\, free event is designed to encourage families to enjoy the fun of Mardi Gras while raising money for Fullerton special education programs\, featuring many activities appropriate for children of all ages and abilities.</p>\n\n<p>ABOUT MARDI GRAS FOR AUTISM: &lsquo\;Mardi Gras for Autism&rsquo\; festival raises funds benefitting the Fullerton School District&rsquo\;s autism programs.&nbsp\;</p>\n\n<p>ABOUT BOURBON STREET: Established in 2007\, Bourbon Street offers Southern Inspired cuisine in the heart of historic downtown Fullerton with a menu made entirely from scratch featuring farm fresh\, locally sourced ingredients.&nbsp\; In addition to a world-class selection of slow-aged bourbons and whiskies\, Bourbon Street features a wide array of bottled and draught beer\, as well as a comprehensive wine list.<br />\n<br />\nBourbon Street is located at 110 E. Commonwealth Ave\, Fullerton\, CA 92832 with 800 adjacent parking stalls. Reservations can be made at 714-626-0050. &nbsp\;<a href="http://bourbonstreetfullerton.com/">http://bourbonstreetfullerton.com</a></p>\n\n<p>ABOUT AUTISM: According to the U.S. Centers for Disease Control (CDC)\, autism now affects about 1 in every 68 American children\, including 1 in 42 boys.&nbsp\;Autism is a complex condition that affects a person&rsquo\;s ability to communicate and develop social relationships\, and is often accompanied by behavioral challenges.</p>\n\n<p>&nbsp\;</p>\n
LOCATION:Bourbon Street 110 E Commonwealth Ave Fullerton\, CA 92832
UID:e.887.21260
SEQUENCE:3
DTSTAMP:20260421T234014Z
URL:https://nocchamber-gzcms.preview.gochambermaster.com/events/details/mardi-gras-for-autism-2018-21260
END:VEVENT

END:VCALENDAR
