BEGIN:VCALENDAR
VERSION:2.0
PRODID:-//ChamberMaster//Event Calendar 2.0//EN
METHOD:PUBLISH
X-PUBLISHED-TTL:P3D
REFRESH-INTERVAL:P3D
CALSCALE:GREGORIAN
BEGIN:VEVENT
DTSTART:20150610T180000Z
DTEND:20150611T020000Z
X-MICROSOFT-CDO-ALLDAYEVENT:FALSE
SUMMARY:lolo\, a boutique Half Yearly Sale
DESCRIPTION:HALF YEARLY SALE TODAY THROUGH SATURDAY\, JUNE 13 AT LOLO BOUTIQUE. 20% off store wide\, 50% additional off clearance rack\, and many special special surprises. As always\, brighton excluded.
X-ALT-DESC;FMTTYPE=text/html:<span style="font: 12px/13.39px helvetica\, arial\, sans-serif\; text-align: left\; color: rgb(20\, 24\, 35)\; text-transform: none\; text-indent: 0px\; letter-spacing: normal\; word-spacing: 0px\; float: none\; display: inline !important\; white-space: normal\; widows: 1\; font-size-adjust: none\; font-stretch: normal\; background-color: rgb(255\, 255\, 255)\; -webkit-text-stroke-width: 0px\;">HALF YEARLY SALE TODAY THROUGH SATURDAY\, JUNE 13 AT LOLO BOUTIQUE. 20% off store wide\, 50% additional off clearance rack\, and many special special surprises. As always\, brighton excluded.</span>
LOCATION:lolo\, a boutique 305 N. Harbor Blvd.
UID:e.887.11260
SEQUENCE:3
DTSTAMP:20260424T154143Z
URL:https://nocchamber-gzcms.preview.gochambermaster.com/events/details/lolo-a-boutique-yearlly-half-off-sale-06-10-2015-11260
END:VEVENT

END:VCALENDAR
