BEGIN:VCALENDAR
VERSION:2.0
PRODID:-//ChamberMaster//Event Calendar 2.0//EN
METHOD:PUBLISH
X-PUBLISHED-TTL:P3D
REFRESH-INTERVAL:P3D
CALSCALE:GREGORIAN
BEGIN:VEVENT
DTSTART:20160929T000000Z
DTEND:20160928T070000Z
X-MICROSOFT-CDO-ALLDAYEVENT:FALSE
SUMMARY:Leon Owens Foundation restaurant night at Heroes Bar & Grill to support St. Jude Memorial Foundation
DESCRIPTION:On September 28\, 2016 the Leon Owens Foundation is hosting a restaurant night fundraiser at Heroes Bar & Grill. The event is to benefit the St. Jude Memorial Foundation Crosson Cancer\, for their upcoming event called "A Walk Among the Stars." Heroes restaurant will donate 20% of the proceeds to this worthy cause. The Fullerton Fire Dept is will be participating and bringing the Pinktoper Fire Truck! We would like guests to wear Pink in support for Breast Cancer Awareness month. Please plan to join us\, in doing so we can and will be "Making A Difference Together" to help others to fight and beat cancer. We appreciate your support!
X-ALT-DESC;FMTTYPE=text/html:On September 28\, 2016 the Leon Owens Foundation is hosting a restaurant night fundraiser at Heroes Bar &amp\; Grill. The event is to benefit the St. Jude Memorial Foundation&nbsp\;Crosson Cancer\, for their upcoming event called &quot\;A Walk Among the Stars.&quot\; Heroes restaurant will donate 20% of the proceeds to this worthy cause. The Fullerton Fire Dept is will be participating and bringing the Pinktoper Fire Truck! We would like guests to wear Pink in support for Breast Cancer Awareness month. Please plan to join us\, in doing so we can and will be &quot\;Making A Difference Together&quot\; to help others to fight and beat cancer. We appreciate your support!<br />\n<br />\n<br />\n&nbsp\;
LOCATION:Heroes Bar & Grill 125 W. Santa Fe Ave Fullerton\, CA 92832
UID:e.887.14626
SEQUENCE:3
DTSTAMP:20260422T115723Z
URL:https://nocchamber-gzcms.preview.gochambermaster.com/events/details/leon-owens-foundation-restaurant-night-at-heroes-bar-grill-to-support-st-jude-memorial-foundation-14626
END:VEVENT

END:VCALENDAR
