BEGIN:VCALENDAR
VERSION:2.0
PRODID:-//ChamberMaster//Event Calendar 2.0//EN
METHOD:PUBLISH
X-PUBLISHED-TTL:P3D
REFRESH-INTERVAL:P3D
CALSCALE:GREGORIAN
BEGIN:VEVENT
DTSTART:20160508T210000Z
DTEND:20160509T000000Z
X-MICROSOFT-CDO-ALLDAYEVENT:FALSE
SUMMARY:Leon Owens Foundation Presents "A Mother's Day Celebration" at the Muckenthaler Cultural Center
DESCRIPTION:Join Leon Owens Foundation and celebrate Mother's Day at the Muckenthaler! What a great way to create special memories with the all the moms on your list. Enjoy a gourmet food truck\, spring cocktails and live entertainment. Guests are welcome to bring their own picnic basket as they enjoy all the musical performances. Featuring millennial Saxophonist J. Boykin\, called the "Sax Sensation"\, he has played and opened for John Legend\, Frankie Beverly & Maze\, Ledisi\, Take 6 and has appeared the television show Glee. He was spotlighted playing "Happy" when Oprah interviewed musician Pharrell Williams on Oprah Prime. The concert is also featuring the gifted and talented women "Songstress" who will delight guests with classic sounds of Gospel and R&B. What better place to be than The Muck to enjoy a afternoon with your mom\, grandmother\, aunts\, sisters or girlfriends.*\n\n\n\nThe day will also include a door prize\, a silent auction and opportunity drawing for great prizes. Please don't hesitate to contact us if you would like to donate a silent auction item or raffle prize(s) such as gift baskets\, wine or gift certificates.\n\n\n\nThe foundation is honored and appreciate the opportunity to partner with Muckenthaler Center for this fundraising event. The proceeds from this event will go to support the Leon Owens Foundation Scholarship Fund. Since 1994\, with the help of our community of friends\, local businesses and family we have made a positive impact on the lives and educational future of high school and college students. Through our support of youth organizations we have provided children (K-12th grades) wonderful opportunities in the areas of science\, debate\, sports\, dance and music. This is made possible because of our donors. When a community gathers for a good cause\, we are "Making A Difference Together"!  If you are unable to attend\, but want to extend your support...we appreciate you making a donation of any amount. You may do so at www.leonowensfoundation.org\n\n\n\nWe look forward to seeing you on May 8th!!
X-ALT-DESC;FMTTYPE=text/html:Join Leon Owens Foundation&nbsp\;and celebrate Mother&#39\;s Day at the Muckenthaler! What a great way to create special memories with the all the moms on your list. Enjoy a gourmet food truck\, spring cocktails and live entertainment. Guests are welcome to bring their own picnic basket as they enjoy all the musical performances. Featuring millennial Saxophonist J. Boykin\, called the &quot\;Sax Sensation&quot\;\, he has played and opened for John Legend\, Frankie Beverly &amp\; Maze\, Ledisi\, Take 6 and has appeared the television show <em>Glee. </em>He was spotlighted playing <em>&quot\;Happy&quot\;&nbsp\;</em>when Oprah interviewed musician Pharrell Williams on Oprah Prime. The concert is also featuring the gifted and talented women &quot\;Songstress&quot\; who will delight guests with classic&nbsp\;sounds of Gospel and R&amp\;B. What better place to be than The Muck to enjoy a afternoon with your mom\, grandmother\, aunts\, sisters or girlfriends.*<br />\n<br />\nThe day will also include a door prize\, a silent auction and opportunity drawing for great prizes. Please don&#39\;t hesitate to contact us if you would like to donate a silent auction item or raffle prize(s) such as gift baskets\, wine or gift certificates.<br />\n<br />\nThe foundation is honored and appreciate the opportunity to partner with Muckenthaler Center for this fundraising event. The proceeds from this event will go to support the Leon Owens Foundation Scholarship Fund. Since 1994\, with the help of our community of friends\, local businesses and family we have made a positive impact on the lives and educational future of high school and college students. Through our support of youth organizations we have provided children (K-12th grades) wonderful opportunities in the areas of science\, debate\, sports\, dance and music. This is made possible because of our donors. When a community gathers for a good cause\, we are &quot\;Making A Difference Together&quot\;! &nbsp\;If you are unable to attend\, but want to extend your support...we appreciate you making a donation of any amount. You may do so at www.leonowensfoundation.org<br />\n<br />\nWe look forward to seeing you on May 8th!!<br />\n&nbsp\;
LOCATION:The Muckenthaler Cultural Center located at 1201 West Malvern Ave in Fullerton\, CA 92833
UID:e.887.14118
SEQUENCE:3
DTSTAMP:20260423T124029Z
URL:https://nocchamber-gzcms.preview.gochambermaster.com/events/details/leon-owens-foundation-presents-a-mother-s-day-celebration-at-the-muckenthaler-cultural-center-14118
END:VEVENT

END:VCALENDAR
