BEGIN:VCALENDAR
VERSION:2.0
PRODID:-//ChamberMaster//Event Calendar 2.0//EN
METHOD:PUBLISH
X-PUBLISHED-TTL:P3D
REFRESH-INTERVAL:P3D
CALSCALE:GREGORIAN
BEGIN:VEVENT
DTSTART;VALUE=DATE:20161112
DTEND;VALUE=DATE:20161202
TRANSP:TRANSPARENT
X-MICROSOFT-CDO-ALLDAYEVENT:TRUE
SUMMARY:Leon Owens Foundation "Books 4 Kids" Fundraiser with Barnes & Noble
DESCRIPTION:The Leon Owens Foundation and Barnes & Noble are partnering to raise funds for "Books 4 Kids." The event is a book fair where supporters can purchase children's books to bring with them to the LOF College Bingo Night Scholarship fundraiser on November 19th at the Hotel Fullerton.\n\n\n\nIn addition\, books\, Nook\, gift certificates\, games or toys purchased at Barnes & Noble (Fullerton) will donate a percentage of the sales towards the "Books 4 Kids" project. The fundraiser for in store purchases runs from Saturday\, November 12 until Saturday\, November 26\, 2016. Please bring the flyer with you when shopping at the Fullerton Barnes & Noble store.\n\n\n\nThere is also the option to make online purchases. Include the book fair ID # 12039384 when you checkout. For online purchases\, have them shipped to 1105 S. Euclid Street\, Suite D-349 Fullerton\, 92832. Online sales are from Saturday\, November 12th until Thursday\, December 1\, 2016.
X-ALT-DESC;FMTTYPE=text/html:The Leon Owens Foundation and Barnes &amp\; Noble are partnering to raise funds for &quot\;Books 4 Kids.&quot\; The event is a book fair where supporters can purchase children&#39\;s books to bring with them to the LOF College Bingo Night Scholarship fundraiser on November 19th at the Hotel Fullerton.<br />\n<br />\nIn addition\, books\, Nook\, gift certificates\, games or toys purchased at Barnes &amp\; Noble (Fullerton) will donate a percentage of the sales towards the &quot\;Books 4 Kids&quot\; project.&nbsp\;The fundraiser for in store purchases runs from Saturday\, November 12 until Saturday\, November 26\, 2016. Please bring the flyer with you when shopping at the Fullerton Barnes &amp\; Noble store.<br />\n<br />\nThere is also the option to make online purchases. Include the book fair <strong>ID # 12039384</strong> when you checkout. For online purchases\, have them shipped to 1105 S. Euclid Street\, Suite D-349 Fullerton\, 92832. Online sales are from Saturday\, November&nbsp\;12th&nbsp\;until Thursday\, December 1\, 2016.
LOCATION:Barnes & Noble - Fullerton 1923 W. Malvern Ave. Fullerton\,CA 92833
UID:e.887.15528
SEQUENCE:3
DTSTAMP:20260421T235746Z
URL:https://nocchamber-gzcms.preview.gochambermaster.com/events/details/leon-owens-foundation-books-4-kids-fundraiser-with-barnes-noble-15528
END:VEVENT

END:VCALENDAR
