BEGIN:VCALENDAR
VERSION:2.0
PRODID:-//ChamberMaster//Event Calendar 2.0//EN
METHOD:PUBLISH
X-PUBLISHED-TTL:P3D
REFRESH-INTERVAL:P3D
CALSCALE:GREGORIAN
BEGIN:VEVENT
DTSTART:20170721T190000Z
DTEND:20170721T200000Z
X-MICROSOFT-CDO-ALLDAYEVENT:FALSE
SUMMARY:Legislative Luncheon with Assemblyman Dr. Steven Choi
DESCRIPTION:Assemblyman Dr. Steven Choi invites All REALTORS  who live and/or work in Anaheim\, Irvine\, Lake Forest\, Marine Corps Air Station El Toro\, Orange\, Tustin\, North Tustin and Villa Park to a Legislative Luncheon. Dr. Steven Choi was elected to represent California's 68th Assembly District in 2016. Dr. Choi began his career in public service when he was elected to the Irvine Unified School District Board of Education in 1998. He left that post in 2004 when he was elected to join the Irvine City Council\, where he served for eight years before being elected Mayor of Irvine in 2012.
X-ALT-DESC;FMTTYPE=text/html:Assemblyman Dr. Steven Choi invites All REALTORS&reg\; who live and/or work in Anaheim\, Irvine\, Lake Forest\, Marine Corps Air Station El Toro\, Orange\, Tustin\, North Tustin and Villa Park to a Legislative Luncheon.&nbsp\;Dr. Steven Choi was elected to represent California&rsquo\;s 68th Assembly District in 2016. Dr. Choi began his career in public service when he was elected to the Irvine Unified School District Board of Education in 1998. He left that post in 2004 when he was elected to join the Irvine City Council\, where he served for eight years before being elected Mayor of Irvine in 2012.
LOCATION:OCAR Fountain Valley 10540 Talbert Ave.\, Ste. 225 West Fountain Valley\, CA 92708
UID:e.887.16168
SEQUENCE:3
DTSTAMP:20260420T225452Z
URL:https://nocchamber-gzcms.preview.gochambermaster.com/events/details/legislative-luncheon-with-assemblyman-dr-steven-choi-16168
END:VEVENT

END:VCALENDAR
