BEGIN:VCALENDAR
VERSION:2.0
PRODID:-//ChamberMaster//Event Calendar 2.0//EN
METHOD:PUBLISH
X-PUBLISHED-TTL:P3D
REFRESH-INTERVAL:P3D
CALSCALE:GREGORIAN
BEGIN:VEVENT
DTSTART:20180926T020000Z
DTEND:20180926T040000Z
X-MICROSOFT-CDO-ALLDAYEVENT:FALSE
SUMMARY:League of Women Voters of NOC - City Council Candidate Forum
DESCRIPTION:The League of Women Voters of North Orange County will be hosting La Palma City Council Candidate Forum Night giving candidates an opportunity to address a wide range of issues that affect the community. \n\n\n\n*This forum is not intended to be a debate among the candidates but rather a forum for the candidates to share their positions on key issues with the public.
X-ALT-DESC;FMTTYPE=text/html:The League of Women Voters of North Orange County will be hosting La Palma City Council Candidate Forum Night giving candidates an opportunity to address a wide range of issues that affect the community.&nbsp\;<br />\n<br />\n*This forum is not intended to be a debate among the candidates but rather a forum for the candidates to share their positions on key issues with the public.&nbsp\;
LOCATION:La Palma Community Center 7821 Walker St. La Palma\, CA 90623
UID:e.887.22699
SEQUENCE:3
DTSTAMP:20260422T122841Z
URL:https://nocchamber-gzcms.preview.gochambermaster.com/events/details/league-of-women-voters-of-noc-city-council-candidate-forum-22699
END:VEVENT

END:VCALENDAR
