BEGIN:VCALENDAR
VERSION:2.0
PRODID:-//ChamberMaster//Event Calendar 2.0//EN
METHOD:PUBLISH
X-PUBLISHED-TTL:P3D
REFRESH-INTERVAL:P3D
CALSCALE:GREGORIAN
BEGIN:VEVENT
DTSTART:20181011T010000Z
DTEND:20181011T030000Z
X-MICROSOFT-CDO-ALLDAYEVENT:FALSE
SUMMARY:League of Women Voters - Candidate Forum: Fullerton School District
DESCRIPTION:League of Women Voters will be hosting a Candidates Forum for those seeking election to Fullerton School District Board of Trustees.
X-ALT-DESC;FMTTYPE=text/html:League of Women Voters will be hosting a Candidates Forum for those seeking election to Fullerton School District Board of Trustees.
LOCATION:Fullerton School District Boardroom 1401 W. Valencia Dr. Fullerton\, CA 93833
UID:e.887.22734
SEQUENCE:3
DTSTAMP:20260423T064949Z
URL:https://nocchamber-gzcms.preview.gochambermaster.com/events/details/league-of-women-voters-candidate-forum-fullerton-school-district-22734
END:VEVENT

END:VCALENDAR
