BEGIN:VCALENDAR
VERSION:2.0
PRODID:-//ChamberMaster//Event Calendar 2.0//EN
METHOD:PUBLISH
X-PUBLISHED-TTL:P3D
REFRESH-INTERVAL:P3D
CALSCALE:GREGORIAN
BEGIN:VEVENT
DTSTART:20181010T010000Z
DTEND:20181010T030000Z
X-MICROSOFT-CDO-ALLDAYEVENT:FALSE
SUMMARY:League of Women Voters - Candidate Forum: Fullerton City Council
DESCRIPTION:League of Women Voters will be hosting a Candidates Forum for those seeking election to Fullerton City Council.
X-ALT-DESC;FMTTYPE=text/html:League of Women Voters will be hosting a <strong>Candidates Forum&nbsp\;</strong>for those seeking election to Fullerton City Council.&nbsp\;
LOCATION:Fullerton City Hall - Council Chambers 303 W. Commonwealth Ave. Fullerton\, CA 93832
UID:e.887.22733
SEQUENCE:3
DTSTAMP:20260422T203407Z
URL:https://nocchamber-gzcms.preview.gochambermaster.com/events/details/league-of-women-voters-candidate-forum-fullerton-city-council-22733
END:VEVENT

END:VCALENDAR
