BEGIN:VCALENDAR
VERSION:2.0
PRODID:-//ChamberMaster//Event Calendar 2.0//EN
METHOD:PUBLISH
X-PUBLISHED-TTL:P3D
REFRESH-INTERVAL:P3D
CALSCALE:GREGORIAN
BEGIN:VEVENT
DTSTART:20180413T020000Z
DTEND:20180413T040000Z
X-MICROSOFT-CDO-ALLDAYEVENT:FALSE
SUMMARY:La Palma State of the City
DESCRIPTION:The event will highlight the past year's achievements and discuss what the future holds. The public is invited and encouraged to attend. The event is free to the community\, with light refreshments being served\, and no RSVP is necessary.
X-ALT-DESC;FMTTYPE=text/html:The event will highlight the past year&#39\;s achievements and discuss what the future holds. The public is invited and encouraged to attend. The event is free to the community\, with light refreshments being served\, and no RSVP is necessary.
LOCATION:7821 Walker Street La Palma\, CA 90623
UID:e.887.21288
SEQUENCE:3
DTSTAMP:20260421T223041Z
URL:https://nocchamber-gzcms.preview.gochambermaster.com/events/details/la-palma-state-of-the-city-21288
END:VEVENT

END:VCALENDAR
