BEGIN:VCALENDAR
VERSION:2.0
PRODID:-//ChamberMaster//Event Calendar 2.0//EN
METHOD:PUBLISH
X-PUBLISHED-TTL:P3D
REFRESH-INTERVAL:P3D
CALSCALE:GREGORIAN
BEGIN:VEVENT
DTSTART:20171207T000000Z
DTEND:20171207T043000Z
X-MICROSOFT-CDO-ALLDAYEVENT:FALSE
SUMMARY:La Palma’s Holiday Tree Lighting Ceremony
DESCRIPTION:Join your friends and family for this annual holiday favorite. Every year this event brings the La Palma community together to ring in the holiday season! Enjoy the musical talents from our local schools and join in during the Community Carol Sing Along. Take a picture with Santa and his elves in the activities area before the event. This area will feature crafts\, an opportunity to write a letter to Santa\, and of course\, the young and young-at-heart won't want to miss an early visit from Santa Claus!
X-ALT-DESC;FMTTYPE=text/html:<span style="color: rgb(0\, 0\, 0)\; font-family: Arial\; font-size: 13.3333px\;">Join your friends and family for this annual holiday favorite. Every year this event brings the La Palma community together to ring in the holiday season! Enjoy the musical talents from our local schools and join in during the Community Carol Sing Along. Take a picture with Santa and his elves in the activities area before the event. This area will feature crafts\, an opportunity to write a letter to Santa\, and of course\, the young and young-at-heart won&rsquo\;t want to miss an early visit from Santa Claus!</span>
LOCATION:Central Park Amphitheater 7821 Walker Street La Palma\, CA 90623
UID:e.887.17456
SEQUENCE:3
DTSTAMP:20260421T063456Z
URL:https://nocchamber-gzcms.preview.gochambermaster.com/events/details/la-palma-s-holiday-tree-lighting-ceremony-17456
END:VEVENT

END:VCALENDAR
