BEGIN:VCALENDAR
VERSION:2.0
PRODID:-//ChamberMaster//Event Calendar 2.0//EN
METHOD:PUBLISH
X-PUBLISHED-TTL:P3D
REFRESH-INTERVAL:P3D
CALSCALE:GREGORIAN
BEGIN:VEVENT
DTSTART:20171101T010000Z
DTEND:20171101T033000Z
X-MICROSOFT-CDO-ALLDAYEVENT:FALSE
SUMMARY:La Palma Halloween Carnival
DESCRIPTION:Join La Palma's safe\, family-oriented alternative to the traditional trick-or-treat!  Kids and families can choose from a variety of activities such as the costume contest for infants to 6th graders with special prizes in each division. This year's Halloween Carnival will feature carnival games\, an area for children under the age of five to play games\, and those who dare to find their way through a maze.
X-ALT-DESC;FMTTYPE=text/html:Join&nbsp\;La Palma&rsquo\;s safe\, family-oriented alternative to the traditional trick-or-treat!&nbsp\; Kids and families can choose from a variety of activities such as the costume contest for infants to 6th graders with special prizes in each division.&nbsp\;This year&#39\;s Halloween Carnival will feature carnival games\, an area&nbsp\;for children under the age of&nbsp\;five to play games\, and those who dare to find their way through&nbsp\;a maze.<br />\n&nbsp\;
LOCATION:Central Park 7821 Walker St. La Palma\, CA 90623
UID:e.887.17397
SEQUENCE:3
DTSTAMP:20260420T214150Z
URL:https://nocchamber-gzcms.preview.gochambermaster.com/events/details/la-palma-halloween-carnival-17397
END:VEVENT

END:VCALENDAR
