BEGIN:VCALENDAR
VERSION:2.0
PRODID:-//ChamberMaster//Event Calendar 2.0//EN
METHOD:PUBLISH
X-PUBLISHED-TTL:P3D
REFRESH-INTERVAL:P3D
CALSCALE:GREGORIAN
BEGIN:VEVENT
DTSTART:20160705T000000Z
DTEND:20160705T044500Z
X-MICROSOFT-CDO-ALLDAYEVENT:FALSE
SUMMARY:La Habra 4th of July Celebration
DESCRIPTION:Fireworks\, live entertainment\, food & drinks\, free kids' zone\, including balloon artist\, face painting\, giant slide\, obstacle course and inflatable games. Live music by Soto Band. Fireworks show will begin at 9:15 p.m. This event takes place at La Habra High School's stadium. Seating is available in the bleachers or on the grass (guests who sit on the grass must provide their own seating). Food and drinks can be brought into the stadium\, however no glass containers or alcoholic beverages are permitted. Also\, no pets are permitted\, with the exception of service dogs.
X-ALT-DESC;FMTTYPE=text/html:Fireworks\, live entertainment\, food &amp\; drinks\, free kids&#39\; zone\, including balloon artist\, face painting\, giant slide\, obstacle course and inflatable games. Live music by Soto Band. Fireworks show will begin at 9:15 p.m. This event takes place at La Habra High School&#39\;s stadium. Seating is available in the bleachers or on the grass (guests who sit on the grass must provide their own seating). Food and drinks can be brought into the stadium\, however no glass containers or alcoholic beverages are permitted. Also\, no pets are permitted\, with the exception of service dogs.
LOCATION:801 W Highlander Ave\, La Habra\, CA 90631
UID:e.887.14565
SEQUENCE:3
DTSTAMP:20260422T185335Z
URL:https://nocchamber-gzcms.preview.gochambermaster.com/events/details/la-habra-4th-of-july-celebration-14565
END:VEVENT

END:VCALENDAR
