BEGIN:VCALENDAR
VERSION:2.0
PRODID:-//ChamberMaster//Event Calendar 2.0//EN
METHOD:PUBLISH
X-PUBLISHED-TTL:P3D
REFRESH-INTERVAL:P3D
CALSCALE:GREGORIAN
BEGIN:VEVENT
DTSTART:20190625T173000Z
DTEND:20190625T193000Z
X-MICROSOFT-CDO-ALLDAYEVENT:FALSE
SUMMARY:IT Sector-Focused Workforce Solutions
DESCRIPTION:With a low unemployment rate\, intense competition\, and a sector that changes faster than you can say "workforce\," IT companies must get creative when it comes to training information technology professionals. To address the tech workforce challenge\, the Orange County Regional Planning Unit and the State of California Division of Apprenticeship Standards works with companies to identify jobs that can be filled by highly competent individuals\, regardless of educational background.\n\nJoin in and learn how you can start building a registered apprenticeship program.\n\nApprenticeship is an established practice in other industries for developing talent\, combining classroom instruction and On-the Job training under the supervision of an industry professional. Apprenticeship reduces the need for expensive recruitment programs by creating a flow of candidates who are already screened and trained. The cost of wages for apprentices is less than that for regular employees. Additionally\, apprentices who complete a program often feel a commitment to their work and loyalty to their employer. The IT apprenticeship program model has proven to be effective in training workers across the nation.\n\nYour Business\, Your Design\n\nThe Division of Apprenticeship Standards works with industry to create standard job taxonomies for apprenticeable technical jobs that lead to a career in the industry. The program offers benefits to companies of all sizes. The Division assigns consultant staff to help you develop the training program you need to succeed. Additionally\, apprenticeship programs qualify for a wide variety of subsidized training assistance.\n\nFlexible Pool of Skilled Workers\n\nCraft employee training to help you meet the needs of your industry.\n\nIncrease Productivity\n\nTraining vastly improves efficiency\, production\, and customer service.\n\nEmployee Loyalty\n\nShow your commitment to your employee's future by investing in training. Apprenticeship programs reduce labor turnover and absenteeism through employee motivation to learn new job skills and advancement opportunities.\n\nThe Division of Apprenticeship Standards has nearly 70\,000 registered apprentices in over 600 training programs Statewide. California apprenticeship programs graduate nearly 8\,000 apprentices annually.\n\nExample IT career tracks may include\, but are not limited to:\n\n  Communications-computer systems planning and implementation\n\n  Computer peripheral equipment operator\n\n  Computer programmer\n\n  Database technician\n\n  Help desk technician\n\n  Information assurance specialist/technician\n\n  Information management\n\n  Information technology generalist\n\n  Information security analysts\n\n  Information technology specialist\n\n  Internetworking technician\n\n  E-Commerce specialist\n\n  Network support technician\n\n  Network and computer systems\n\n  Software/Web/Application developer\n\n  Windows systems administrator
X-ALT-DESC;FMTTYPE=text/html:<p>With a low unemployment rate\, intense competition\, and a sector that changes faster than you can say &ldquo\;workforce\,&rdquo\; IT companies must get creative when it comes to training information technology professionals. To address the tech workforce challenge\, the Orange County Regional Planning Unit and the State of California Division of Apprenticeship Standards works with companies to identify jobs that can be filled by highly competent individuals\, regardless of educational background.</p>\n\n<p>Join in and learn how you can start building a registered apprenticeship program.</p>\n\n<p style="color: rgba(0\, 0\, 0\, 0.87)\; font-family: Roboto\, RobotoDraft\, Helvetica\, Arial\, sans-serif\; white-space: pre-wrap\;">Apprenticeship is an established practice in other industries for developing talent\, combining classroom instruction and On-the Job training under the supervision of an industry professional. Apprenticeship reduces the need for expensive recruitment programs by creating a flow of candidates who are already screened and trained. The cost of wages for apprentices is less than that for regular employees. Additionally\, apprentices who complete a program often feel a commitment to their work and loyalty to their employer. The IT apprenticeship program model has proven to be effective in training workers across the nation.</p>\n\n<p style="color: rgba(0\, 0\, 0\, 0.87)\; font-family: Roboto\, RobotoDraft\, Helvetica\, Arial\, sans-serif\; white-space: pre-wrap\;">Your Business\, Your Design<br />\nThe Division of Apprenticeship Standards works with industry to create standard job taxonomies for apprenticeable technical jobs that lead to a career in the industry. The program offers benefits to companies of all sizes. The Division assigns consultant staff to help you develop the training program you need to succeed. Additionally\, apprenticeship programs qualify for a wide variety of subsidized training assistance.</p>\n\n<p style="color: rgba(0\, 0\, 0\, 0.87)\; font-family: Roboto\, RobotoDraft\, Helvetica\, Arial\, sans-serif\; white-space: pre-wrap\;">Flexible Pool of Skilled Workers<br />\nCraft employee training to help you meet the needs of your industry.</p>\n\n<p style="color: rgba(0\, 0\, 0\, 0.87)\; font-family: Roboto\, RobotoDraft\, Helvetica\, Arial\, sans-serif\; white-space: pre-wrap\;">Increase Productivity<br />\nTraining vastly improves efficiency\, production\, and customer service.</p>\n\n<p style="color: rgba(0\, 0\, 0\, 0.87)\; font-family: Roboto\, RobotoDraft\, Helvetica\, Arial\, sans-serif\; white-space: pre-wrap\;">Employee Loyalty<br />\nShow your commitment to your employee&rsquo\;s future by investing in training. Apprenticeship programs reduce labor turnover and absenteeism through employee motivation to learn new job skills and advancement opportunities.</p>\n\n<p style="color: rgba(0\, 0\, 0\, 0.87)\; font-family: Roboto\, RobotoDraft\, Helvetica\, Arial\, sans-serif\; white-space: pre-wrap\;">The Division of Apprenticeship Standards has nearly 70\,000 registered apprentices in over 600 training programs Statewide. California apprenticeship programs graduate nearly 8\,000 apprentices annually.</p>\n\n<p style="color: rgba(0\, 0\, 0\, 0.87)\; font-family: Roboto\, RobotoDraft\, Helvetica\, Arial\, sans-serif\; white-space: pre-wrap\;">Example IT career tracks may include\, but are not limited to:<br />\n&bull\; Communications-computer systems planning and implementation<br />\n&bull\; Computer peripheral equipment operator<br />\n&bull\; Computer programmer<br />\n&bull\; Database technician<br />\n&bull\; Help desk technician<br />\n&bull\; Information assurance specialist/technician<br />\n&bull\; Information management<br />\n&bull\; Information technology generalist<br />\n&bull\; Information security analysts<br />\n&bull\; Information technology specialist<br />\n&bull\; Internetworking technician<br />\n&bull\; E-Commerce specialist<br />\n&bull\; Network support technician<br />\n&bull\; Network and computer systems<br />\n&bull\; Software/Web/Application developer<br />\n&bull\; Windows systems administrator</p>\n
LOCATION:County of Orange - Community Investment Division 1300 S. Grand Ave.\, Bldg. A 2nd Floor\, CPO Training Room Santa Ana\, CA 92705
UID:e.887.23411
SEQUENCE:3
DTSTAMP:20260424T044007Z
URL:https://nocchamber-gzcms.preview.gochambermaster.com/events/details/it-sector-focused-workforce-solutions-23411
END:VEVENT

END:VCALENDAR
