BEGIN:VCALENDAR
VERSION:2.0
PRODID:-//ChamberMaster//Event Calendar 2.0//EN
METHOD:PUBLISH
X-PUBLISHED-TTL:P3D
REFRESH-INTERVAL:P3D
CALSCALE:GREGORIAN
BEGIN:VEVENT
DTSTART:20171102T210000Z
DTEND:20171102T223000Z
X-MICROSOFT-CDO-ALLDAYEVENT:FALSE
SUMMARY:“It’s Your Money” Financial Workshop
DESCRIPTION:Workshop Title: Big Take Away & Stock Market Contest\n\nLearn from several local financial professionals as they share expertise in specific areas of financial resources management. The sessions allow time for interactions as well as questions and answers.\n\nPresented by Pete Kote and Carl Larchman.
X-ALT-DESC;FMTTYPE=text/html:<strong>Workshop Title: Big Take Away &amp\; Stock Market Contest</strong><br />\nLearn from several local financial professionals as they share expertise in specific areas of financial resources management. The sessions allow time for interactions as well as questions and answers.<br />\nPresented by Pete Kote and Carl Larchman.&nbsp\;<br />\n&nbsp\;
LOCATION:Fullerton Community Center 340 W. Commonwealth Ave. Fullerton\, CA 92832
UID:e.887.17302
SEQUENCE:3
DTSTAMP:20260421T033319Z
URL:https://nocchamber-gzcms.preview.gochambermaster.com/events/details/it-s-your-money-financial-workshop-11-02-2017-17302
END:VEVENT

END:VCALENDAR
