BEGIN:VCALENDAR
VERSION:2.0
PRODID:-//ChamberMaster//Event Calendar 2.0//EN
METHOD:PUBLISH
X-PUBLISHED-TTL:P3D
REFRESH-INTERVAL:P3D
CALSCALE:GREGORIAN
BEGIN:VEVENT
DTSTART:20180716T173000Z
DTEND:20180716T203000Z
X-MICROSOFT-CDO-ALLDAYEVENT:FALSE
SUMMARY:Instagram: Creating Images for Business
DESCRIPTION:This workshop will observe and analyze social media phenomenon of engaging with clients for service or brand: \n\n	Why businesses should use Instagram\n	What is a "hashtag"?\n	How to make images eye-catching\n	How to make quick social media videos to share on Instagram\n	How to re-purpose images and video\n	Hands on photography demo\, lighting and composition tips\n\nRoni Ramos from Harmony 3 Productions is the presenter of this workshop.
X-ALT-DESC;FMTTYPE=text/html:This workshop will observe and analyze social media phenomenon of engaging with clients for service or brand:&nbsp\;\n<ul>\n	<li>Why businesses should use Instagram</li>\n	<li>What is a &quot\;hashtag&quot\;?</li>\n	<li>How to make images eye-catching</li>\n	<li>How to make quick social media videos to share on Instagram</li>\n	<li>How to re-purpose images and video</li>\n	<li>Hands on photography demo\, lighting and composition tips</li>\n</ul>\nRoni Ramos from Harmony 3 Productions&nbsp\;is the presenter of this workshop.
LOCATION:Webster University (VM Wooten) 32 Discovery\, #250 Irvine\, CA 92618
UID:e.887.22548
SEQUENCE:3
DTSTAMP:20260422T100741Z
URL:https://nocchamber-gzcms.preview.gochambermaster.com/events/details/instagram-creating-images-for-business-22548
END:VEVENT

END:VCALENDAR
