BEGIN:VCALENDAR
VERSION:2.0
PRODID:-//ChamberMaster//Event Calendar 2.0//EN
METHOD:PUBLISH
X-PUBLISHED-TTL:P3D
REFRESH-INTERVAL:P3D
CALSCALE:GREGORIAN
BEGIN:VEVENT
DTSTART:20180323T160000Z
DTEND:20180323T233000Z
X-MICROSOFT-CDO-ALLDAYEVENT:FALSE
SUMMARY:Import Compliance Training Program
DESCRIPTION:Session 3: Protection and Inspection: CTPAT\, Import Compliance Program\, and Violations\n\n\n\nJoin us for an Import Compliance practitioner's course\, which walks participants through all aspects of import compliance. This hands-on\n\nworkshop covers the nuts and bolts of importing\, including HTS classication\, demonstrating reasonable care\, Free Trade\n\nAgreements\, C-TPAT\, how to implement your own compliance program\, and so much more. Whether you are new to your role of dealing with import\n\ncompliance at your company\, or need a refresher\, this robust course will teach you the basics and keep you up to date on your responsibilities as an importer.
X-ALT-DESC;FMTTYPE=text/html:Session 3: Protection and Inspection: CTPAT\, Import Compliance Program\, and Violations<br />\n<br />\nJoin us for an Import Compliance practitioner&#39\;s course\, which walks participants through all aspects of import compliance. This hands-on<br />\nworkshop covers the nuts and bolts of importing\, including HTS classication\, demonstrating reasonable care\, Free Trade<br />\nAgreements\, C-TPAT\, how to implement your own compliance program\, and so much more. Whether you are new to your role of dealing with import<br />\ncompliance at your company\, or need a refresher\, this robust course will teach you the basics and keep you up to date on your responsibilities as an importer.<br />\n&nbsp\;
LOCATION:Rancho Santiago CCD** 2323 N. Broadway #107\, Santa Ana\, CA 92706 **Session 1 & 3 (Irvine\,CA)
UID:e.887.17756
SEQUENCE:3
DTSTAMP:20260421T202741Z
URL:https://nocchamber-gzcms.preview.gochambermaster.com/events/details/import-compliance-training-program-17756
END:VEVENT

END:VCALENDAR
