BEGIN:VCALENDAR
VERSION:2.0
PRODID:-//ChamberMaster//Event Calendar 2.0//EN
METHOD:PUBLISH
X-PUBLISHED-TTL:P3D
REFRESH-INTERVAL:P3D
CALSCALE:GREGORIAN
BEGIN:VEVENT
DTSTART:20170607T010000Z
DTEND:20170607T033000Z
X-MICROSOFT-CDO-ALLDAYEVENT:FALSE
SUMMARY:Human Resource Laws You're Not Complying With
DESCRIPTION:Small businesses in California must comply with city\, state\, federal\, and case law\, and they are always changing. Join this workshop to learn about the top employment laws affecting businesses in the areas of hiring\, firing\, recordkeeping\, wage and hour\, and more.
X-ALT-DESC;FMTTYPE=text/html:Small businesses in California must comply with city\, state\, federal\, and case law\, and they are always changing. Join this workshop to learn about the top employment laws affecting businesses in the areas of hiring\, firing\, recordkeeping\, wage and hour\, and more.&nbsp\;
LOCATION:CIELO at Golden West College Student Services Annex\, Room 125 15744 Goldenwest St. Huntington Beach\, CA 92647
UID:e.887.16160
SEQUENCE:3
DTSTAMP:20260421T003154Z
URL:https://nocchamber-gzcms.preview.gochambermaster.com/events/details/human-resource-laws-you-re-not-complying-with-16160
END:VEVENT

END:VCALENDAR
