BEGIN:VCALENDAR
VERSION:2.0
PRODID:-//ChamberMaster//Event Calendar 2.0//EN
METHOD:PUBLISH
X-PUBLISHED-TTL:P3D
REFRESH-INTERVAL:P3D
CALSCALE:GREGORIAN
BEGIN:VEVENT
DTSTART:20150716T171500Z
DTEND:20150716T183000Z
X-MICROSOFT-CDO-ALLDAYEVENT:FALSE
SUMMARY:HUBZone/WOSB Workshop
DESCRIPTION:The HUBZone program helps small businesses in urban and rural communities gain preferential access to federal procurement opportunities\, the WOSB program is designed to help more women owned small businesses win federal contracts.
X-ALT-DESC;FMTTYPE=text/html:<span style="font-size: 14px\;"><span style="font-family: arial\;"><span style="line-height: 115%\; mso-ascii-theme-font: minor-latin\; mso-fareast-font-family: Calibri\; mso-fareast-theme-font: minor-latin\; mso-hansi-theme-font: minor-latin\; mso-bidi-font-family: &quot\;Times New Roman&quot\;\; mso-bidi-theme-font: minor-bidi\; mso-ansi-language: EN-US\; mso-fareast-language: EN-US\; mso-bidi-language: AR-SA\;"><font color="#000000">The HUBZone program helps small businesses in urban and rural communities gain preferential access to federal procurement opportunities\, the WOSB program is designed to help more women owned small businesses win federal contracts.</font></span></span></span>
LOCATION:SBA Santa Ana District Office (Training Room) 200 West Santa Ana Blvd. Suite 700\, Santa Ana\, CA 92701
UID:e.887.11900
SEQUENCE:3
DTSTAMP:20260424T083805Z
URL:https://nocchamber-gzcms.preview.gochambermaster.com/events/details/hubzone-wosb-workshop-11900
END:VEVENT

END:VCALENDAR
