BEGIN:VCALENDAR
VERSION:2.0
PRODID:-//ChamberMaster//Event Calendar 2.0//EN
METHOD:PUBLISH
X-PUBLISHED-TTL:P3D
REFRESH-INTERVAL:P3D
CALSCALE:GREGORIAN
BEGIN:VEVENT
DTSTART:20180614T000000Z
DTEND:20180614T030000Z
X-MICROSOFT-CDO-ALLDAYEVENT:FALSE
SUMMARY:How To Start A Successful Business & Avoid The Pitfalls
DESCRIPTION:Start-Ups fail at a very high rate. There is a lot more to starting a business then getting a name\, license and location. Follow these steps and it will help to insure success. Learn what to focus on and how to overcome common obstacles. Mistakes cost money and can bury your business early on.  Step by Step guideline.\n\n \n\n* Basic Startup Requirements\n\n* Startup or Buy Existing\n\n* Creating a Workable Plan\n\n* Financing & Projections\n\n* Legal Forms of Organization\n\n* Hiring & Training\n\n \n\nBarry Mc Kinley of SCORE has started\, owned & operated 10 different companies in 5 different industries. He sold each of the companies to investors\, employees and competitors including Fortune 1000 companies. With his vast experience he has been involved in all
X-ALT-DESC;FMTTYPE=text/html:Start-Ups fail at a very high rate. There is a lot more to starting a business then getting a name\, license and location. Follow these steps and it will help to insure success. Learn what to focus on and how to overcome common obstacles. Mistakes cost money and can bury your business early on.&nbsp\; Step by Step guideline.<br />\n&nbsp\;<br />\n* Basic Startup Requirements<br />\n* Startup or Buy Existing<br />\n* Creating a Workable Plan<br />\n* Financing &amp\; Projections<br />\n* Legal Forms of Organization<br />\n* Hiring &amp\; Training<br />\n&nbsp\;<br />\nBarry Mc Kinley of SCORE&nbsp\;has started\, owned &amp\; operated 10 different companies in 5 different industries. He sold each of the companies to investors\, employees and competitors including Fortune 1000 companies. With his vast experience he has been involved in all&nbsp\;
LOCATION:Placentia Public Library (VM Spielberg) 411 E Chapman Avenue Placentia\, CA 92870
UID:e.887.22479
SEQUENCE:3
DTSTAMP:20260422T062635Z
URL:https://nocchamber-gzcms.preview.gochambermaster.com/events/details/how-to-start-a-successful-business-avoid-the-pitfalls-22479
END:VEVENT

END:VCALENDAR
