BEGIN:VCALENDAR
VERSION:2.0
PRODID:-//ChamberMaster//Event Calendar 2.0//EN
METHOD:PUBLISH
X-PUBLISHED-TTL:P3D
REFRESH-INTERVAL:P3D
CALSCALE:GREGORIAN
BEGIN:VEVENT
DTSTART:20180505T213000Z
DTEND:20180506T000000Z
X-MICROSOFT-CDO-ALLDAYEVENT:FALSE
SUMMARY:Hillcrest Park Ribbon Cutting Ceremony
DESCRIPTION:The City of Fullerton and the Parks and Recreation Department will be celebrating the parks rich history and the completion of the Great Lawn and Fountain Restoration with a ribbon-cutting ceremony.\n\n\n\nThe event will take place on the Hillcrest Park Front Lawn. There will be live music\, food and games for the entire family.
X-ALT-DESC;FMTTYPE=text/html:The City of Fullerton and the Parks and Recreation Department will be celebrating the parks rich history and the completion of the Great Lawn and Fountain Restoration with a ribbon-cutting ceremony.<br />\n<br />\nThe event will take place on the Hillcrest Park Front Lawn. There will be live music\, food and games for the entire family.<br />\n<br />\n&nbsp\;
LOCATION:Hillcrest Park Front Lawn 1200 N. Harbor Blvd. Fullerton\, CA 92832
UID:e.887.21358
SEQUENCE:3
DTSTAMP:20260422T013932Z
URL:https://nocchamber-gzcms.preview.gochambermaster.com/events/details/hillcrest-park-ribbon-cutting-ceremony-21358
END:VEVENT

END:VCALENDAR
