BEGIN:VCALENDAR
VERSION:2.0
PRODID:-//ChamberMaster//Event Calendar 2.0//EN
METHOD:PUBLISH
X-PUBLISHED-TTL:P3D
REFRESH-INTERVAL:P3D
CALSCALE:GREGORIAN
BEGIN:VEVENT
DTSTART:20180531T183000Z
DTEND:20180531T193000Z
X-MICROSOFT-CDO-ALLDAYEVENT:FALSE
SUMMARY:Harbor Implant & Cosmetic Dentistry Ribbon Cutting
DESCRIPTION:Join us for a ribbon cutting ceremony to celebrate the grand opening of Harbor Implant & Cosmetic Dentistry.
X-ALT-DESC;FMTTYPE=text/html:Join us for a ribbon cutting ceremony to celebrate the grand opening of <a href="https://goteamhicd.wixsite.com/hicd" target="_blank">Harbor Implant &amp\; Cosmetic Dentistry</a>.
LOCATION:Harbor Implant & Cosmetic Dentistry 1460 N. Harbor Blvd.\, Suite 120 Fullerton\, CA 92835
UID:e.887.21250
SEQUENCE:3
DTSTAMP:20260421T235743Z
URL:https://nocchamber-gzcms.preview.gochambermaster.com/events/details/harbor-implant-cosmetic-dentistry-ribbon-cutting-21250
END:VEVENT

END:VCALENDAR
