BEGIN:VCALENDAR
VERSION:2.0
PRODID:-//ChamberMaster//Event Calendar 2.0//EN
METHOD:PUBLISH
X-PUBLISHED-TTL:P3D
REFRESH-INTERVAL:P3D
CALSCALE:GREGORIAN
BEGIN:VEVENT
DTSTART:20140412T170000Z
DTEND:20140413T230000Z
X-MICROSOFT-CDO-ALLDAYEVENT:FALSE
SUMMARY:Green Scene Plant & Garden Show
DESCRIPTION:Over 80 specialty garden vendors offering extraordinary plants\, handcrafted & custom garden art and pottery\, Discovery Sessions featuring prominent speakers on a variety of inspiring garden topics\,  Art Exhibit showcasing CSUF Arboretum inspired watercolor paintings by current CSUF students  Food Court and Beer Garden
X-ALT-DESC;FMTTYPE=text/html:Over 80 specialty garden vendors offering extraordinary plants\, handcrafted &amp\; custom garden art and pottery\, Discovery Sessions featuring prominent speakers on a variety of inspiring garden topics\,&nbsp\; Art Exhibit showcasing CSUF Arboretum inspired watercolor paintings by current CSUF students&nbsp\; Food Court and Beer Garden
LOCATION:Fullerton Arboretum 1900 Associated Road\, Fullerton Ca. 92831
UID:e.887.8782
SEQUENCE:3
DTSTAMP:20260426T001804Z
URL:https://nocchamber-gzcms.preview.gochambermaster.com/events/details/green-scene-plant-garden-show-8782
END:VEVENT

END:VCALENDAR
