BEGIN:VCALENDAR
VERSION:2.0
PRODID:-//ChamberMaster//Event Calendar 2.0//EN
METHOD:PUBLISH
X-PUBLISHED-TTL:P3D
REFRESH-INTERVAL:P3D
CALSCALE:GREGORIAN
BEGIN:VEVENT
DTSTART:20180421T170000Z
DTEND:20180421T230000Z
X-MICROSOFT-CDO-ALLDAYEVENT:FALSE
SUMMARY:Green Scene Plant & Garden Expo
DESCRIPTION:Specialty growers will be selling countless varieties of native plants\, tropicals\, perennials\, carnivorous plants\, geraniums\, epiphyllums\, cactus and succulents\, container displays and much more. An Arboretum fundraising event held since 1974.
X-ALT-DESC;FMTTYPE=text/html:Specialty growers will be selling countless varieties of native plants\, tropicals\,&nbsp\;perennials\, carnivorous plants\, geraniums\, epiphyllums\, cactus and succulents\, container displays and much more. An Arboretum fundraising event held since 1974.
LOCATION:Fullerton Arboretum 1900 Associated Road (At Yorba Linda Blvd.) Fullerton\, CA 92832
UID:e.887.17515
SEQUENCE:3
DTSTAMP:20260422T014009Z
URL:https://nocchamber-gzcms.preview.gochambermaster.com/events/details/green-scene-plant-garden-expo-17515
END:VEVENT

END:VCALENDAR
