BEGIN:VCALENDAR
VERSION:2.0
PRODID:-//ChamberMaster//Event Calendar 2.0//EN
METHOD:PUBLISH
X-PUBLISHED-TTL:P3D
REFRESH-INTERVAL:P3D
CALSCALE:GREGORIAN
BEGIN:VEVENT
DTSTART:20180330T013000Z
DTEND:20180330T030000Z
X-MICROSOFT-CDO-ALLDAYEVENT:FALSE
SUMMARY:Google AdWords for Bootstrapping Entrepreneurs
DESCRIPTION:Have you ever considered advertising on Google\, but thought it sounded expensive?\n\nOr have you ever tried advertising on Google\, and struggled to get any results from it?\n\n\n\nThis free workshop is designed to help you increase your chances of success with Google AdWords\,\n\nspending as little money as possible.\n\n\n\nWe'll talk about:\n\nThe basics of Google AdWords\n\nThe importance of being specific\n\nThe importance of differentiating search audiences\n\nMaking every penny count and more.
X-ALT-DESC;FMTTYPE=text/html:Have you ever considered advertising on Google\, but thought it sounded expensive?<br />\nOr have you ever tried advertising on Google\, and struggled to get any results from it?<br />\n<br />\nThis free workshop is designed to help you increase your chances of success with Google AdWords\,<br />\nspending as little money as possible.<br />\n<br />\nWe&#39\;ll talk about:<br />\nThe basics of Google AdWords<br />\nThe importance of being specific<br />\nThe importance of differentiating search audiences<br />\nMaking every penny count and more.
LOCATION:Pro Desk Space 112 E. Amerige Ave. Fullerton\, CA 92832
UID:e.887.18229
SEQUENCE:3
DTSTAMP:20260422T014523Z
URL:https://nocchamber-gzcms.preview.gochambermaster.com/events/details/google-adwords-for-bootstrapping-entrepreneurs-18229
END:VEVENT

END:VCALENDAR
