BEGIN:VCALENDAR
VERSION:2.0
PRODID:-//ChamberMaster//Event Calendar 2.0//EN
METHOD:PUBLISH
X-PUBLISHED-TTL:P3D
REFRESH-INTERVAL:P3D
CALSCALE:GREGORIAN
BEGIN:VEVENT
DTSTART:20161214T233000Z
DTEND:20161215T010000Z
X-MICROSOFT-CDO-ALLDAYEVENT:FALSE
SUMMARY:Garden Grove GO-Biz California Competes Tax Credit Workshop
DESCRIPTION:The Governor's Office of Business and Economic Development (GO-Biz) is hosting a workshop on the California Competes Tax Credit. Small\, medium\, and large businesses are encouraged to attend the workshop and receive instructions on how to apply for this tax credit program.\n\n\n\nThe California Competes Tax Credit Program has $243.3 million in tax credits available during the 2016-17 fiscal year for businesses that want to expand in or relocate to California. The next application period begins January 2\, 2017. Come and learn how your business can apply for millions in available tax credits. The workshop and the program are free and available to businesses of all sizes throughout the state.\n\n\n\nFor more information about California Competes including an application guide and FAQs\, click here.\n\n\n\nParking information: Free parking on site by the Maidu Library or softball fields.
X-ALT-DESC;FMTTYPE=text/html:The Governor&rsquo\;s Office of Business and Economic Development (GO-Biz) is hosting a workshop on the California Competes Tax Credit. Small\, medium\, and large businesses are encouraged to attend the workshop and receive instructions on how to apply for this tax credit program.<br />\n<br />\nThe California Competes Tax Credit Program has $243.3 million in tax credits available during the 2016-17 fiscal year for businesses that want to expand in or relocate to California. The next application period begins January 2\, 2017. Come and learn how your business can apply for millions in available tax credits. The workshop and the program are free and available to businesses of all sizes throughout the state.<br />\n<br />\nFor more information about California Competes including an application guide and FAQs\, <a href="http://www.business.ca.gov/Programs/CaliforniaCompetesTaxCredit">click here</a>.<br />\n<br />\nParking information: Free parking on site by the Maidu Library or softball fields.
LOCATION:Garden Grove Courtyard Center 12732 Main Street Garden Grove\, CA 92840
UID:e.887.15537
SEQUENCE:3
DTSTAMP:20260421T235910Z
URL:https://nocchamber-gzcms.preview.gochambermaster.com/events/details/garden-grove-go-biz-california-competes-tax-credit-workshop-15537
END:VEVENT

END:VCALENDAR
