BEGIN:VCALENDAR
VERSION:2.0
PRODID:-//ChamberMaster//Event Calendar 2.0//EN
METHOD:PUBLISH
X-PUBLISHED-TTL:P3D
REFRESH-INTERVAL:P3D
CALSCALE:GREGORIAN
BEGIN:VEVENT
DTSTART:20140517T003000Z
DTEND:20140517T050000Z
X-MICROSOFT-CDO-ALLDAYEVENT:FALSE
SUMMARY:Fullerton Sunrise Rotary Annual Western Hoedown
DESCRIPTION:Come join the Annual Western Hoedown presented by the Fullerton Sunrise Rotary Club at the Fullerton Arboretum! There'll be a catered BBQ Dinner\, Host Bar\, Line Dancing\, Live Entertainment and a Silent & Live Auction. The proceeds will benefit the All the Arts for All the Kids Foundation and the Fullerton Museum Center Foundation. Ticket Pricing: Individual Ticket - $65 or a Table of Ten for $600
X-ALT-DESC;FMTTYPE=text/html:Come join the Annual Western Hoedown presented by the Fullerton Sunrise Rotary Club at the Fullerton Arboretum! There&#39\;ll be a catered BBQ Dinner\, Host Bar\, Line Dancing\, Live Entertainment and a Silent &amp\; Live Auction. The proceeds will benefit the All the Arts for All the Kids Foundation and the Fullerton Museum Center Foundation. Ticket Pricing: Individual Ticket - $65 or a Table of Ten for $600
LOCATION:Fullerton Arboretum at Cal State Fullerton 1900 Associated Road\, Fullerton\, CA
UID:e.887.8758
SEQUENCE:3
DTSTAMP:20260425T185148Z
URL:https://nocchamber-gzcms.preview.gochambermaster.com/events/details/fullerton-sunrise-rotary-annual-western-hoedown-8758
END:VEVENT

END:VCALENDAR
