BEGIN:VCALENDAR
VERSION:2.0
PRODID:-//ChamberMaster//Event Calendar 2.0//EN
METHOD:PUBLISH
X-PUBLISHED-TTL:P3D
REFRESH-INTERVAL:P3D
CALSCALE:GREGORIAN
BEGIN:VEVENT
DTSTART:20170802T000000Z
DTEND:20170802T030000Z
X-MICROSOFT-CDO-ALLDAYEVENT:FALSE
SUMMARY:Fullerton National Night Out
DESCRIPTION:National Night Out is a program that not only creates cohesion within the community\, but also builds bridges with local law enforcement.\n\nActivities at this event include:\n\n\n	Craft tables\n	Face painting\n	Kids activities\n	Temperature vehicle\n	American Martial Arts\n	Play in the spray pool\n	Play grounds on the go
X-ALT-DESC;FMTTYPE=text/html:<p>National Night Out is a program that not only creates cohesion within the community\, but also builds bridges with local law enforcement.<br />\nActivities at this event include:</p>\n\n<ul>\n	<li>Craft tables</li>\n	<li>Face painting</li>\n	<li>Kids activities</li>\n	<li>Temperature vehicle</li>\n	<li>American Martial Arts</li>\n	<li>Play in the spray pool</li>\n	<li>Play grounds on the go</li>\n</ul>\n
LOCATION:Downtown Fullerton Plaza 125 E. Wilshire Ave. Fullerton\, CA 92832
UID:e.887.16262
SEQUENCE:3
DTSTAMP:20260420T230113Z
URL:https://nocchamber-gzcms.preview.gochambermaster.com/events/details/fullerton-national-night-out-16262
END:VEVENT

END:VCALENDAR
