BEGIN:VCALENDAR
VERSION:2.0
PRODID:-//ChamberMaster//Event Calendar 2.0//EN
METHOD:PUBLISH
X-PUBLISHED-TTL:P3D
REFRESH-INTERVAL:P3D
CALSCALE:GREGORIAN
BEGIN:VEVENT
DTSTART:20151016T143000Z
DTEND:20151016T170000Z
X-MICROSOFT-CDO-ALLDAYEVENT:FALSE
SUMMARY:Fullerton Mayor's Prayer Breakfast-32nd Annual
DESCRIPTION:The 32nd Annual Fullerton Mayor's Prayer Breakfast is an annual event hosted by the Fullerton Prayer Breakfast Committee. This year's breakfast features special guest speaker\, NFL Hall of Famer\, Jackie Slater\, Fullerton Mayor Greg Sebourn\, the Fullerton City Council\, service personnel and leading citizens of our community. \n\n\n\nIt is modeled after the National Prayer Breakfast held in Washington D.C. The intention of this prayer breakfast is to pray for our city\, state and national leaders from  a Christian perspective.\n\n\n\nTo purchase tickets or become a sponsor\, click here.\n\n\n\nFor more information about the event\, contact Sharon Carter at (714) 879-3901 ext. 2237.
X-ALT-DESC;FMTTYPE=text/html:<span style="font-size: medium\;"><span style="font-family: calibri\;">The </span></span>32nd Annual&nbsp\;<span style="font-size: medium\;"><span style="font-family: calibri\;">Fullerton Mayor&rsquo\;s Prayer Breakfast is an annual event hosted by the Fullerton Prayer Breakfast Committee. This year&rsquo\;s breakfast features special guest speaker\, <strong>NFL Hall of Famer\, Jackie Slater</strong>\, Fullerton Mayor Greg Sebourn\, the Fullerton City Council\, service personnel and leading citizens of our community. </span></span><br />\n<br />\n<span style="font-size: medium\;"><span style="font-family: calibri\;">It is modeled after the National Prayer Breakfast held in Washington D.C. The intention of this prayer breakfast is to pray for our city\, state and national leaders from &#65279\;a Christian perspective.</span></span><br />\n<br />\n<span style="font-size: medium\;"><span style="font-family: calibri\;">To purchase tickets or become a sponsor\, </span></span><a href="https://www.eventbrite.com/e/32nd-annual-fullerton-mayors-prayer-breakfast-tickets-17606468421"><span style="font-size: medium\;"><span style="font-family: calibri\;"><span style="color: rgb(0\, 0\, 255)\;">click here</span></span></span></a><span style="font-size: medium\;"><span style="font-family: calibri\;">.</span></span><br />\n<br />\n<span style="font-size: medium\;"><span style="font-family: calibri\;">For more information about the event\, contact Sharon Carter at (714) 879-3901 ext. 2237.&#65279\;&#65279\;&#65279\;&#65279\;</span></span>
LOCATION:Hope International University 2500 E. Nutwood Ave. Fullerton\, CA 92831
UID:e.887.11926
SEQUENCE:3
DTSTAMP:20260424T061617Z
URL:https://nocchamber-gzcms.preview.gochambermaster.com/events/details/fullerton-mayor-s-prayer-breakfast-32nd-annual-11926
END:VEVENT

END:VCALENDAR
