BEGIN:VCALENDAR
VERSION:2.0
PRODID:-//ChamberMaster//Event Calendar 2.0//EN
METHOD:PUBLISH
X-PUBLISHED-TTL:P3D
REFRESH-INTERVAL:P3D
CALSCALE:GREGORIAN
BEGIN:VEVENT
DTSTART:20140426T170000Z
DTEND:20140426T190000Z
X-MICROSOFT-CDO-ALLDAYEVENT:FALSE
SUMMARY:Fullerton Lions Club 75th Anniversary
DESCRIPTION:The Fullerton Lions Club will be celebrating its 75th Anniversary on April 26\, 2014. For more than 7 decades the club has been serving the community's needs relating to sight conservation and youth activities. Celebrations will include a "Liberty-Tree" planting at 10 am\, where the public is invited to attend\, followed by a luncheon.
X-ALT-DESC;FMTTYPE=text/html:The Fullerton Lions Club will be celebrating its 75th Anniversary on April 26\, 2014. For more than 7 decades the club has been serving the community&#39\;s needs relating to sight conservation and youth activities. Celebrations will include a &quot\;Liberty-Tree&quot\; planting at 10 am\, where the public is invited to attend\, followed by a luncheon.
LOCATION:Lions Field
UID:e.887.8748
SEQUENCE:3
DTSTAMP:20260425T201459Z
URL:https://nocchamber-gzcms.preview.gochambermaster.com/events/details/fullerton-lions-club-75th-anniversary-8748
END:VEVENT

END:VCALENDAR
