BEGIN:VCALENDAR
VERSION:2.0
PRODID:-//ChamberMaster//Event Calendar 2.0//EN
METHOD:PUBLISH
X-PUBLISHED-TTL:P3D
REFRESH-INTERVAL:P3D
CALSCALE:GREGORIAN
BEGIN:VEVENT
DTSTART:20180927T154000Z
DTEND:20180927T163000Z
X-MICROSOFT-CDO-ALLDAYEVENT:FALSE
SUMMARY:Fullerton Grocery Outlet Ribbon Cutting
DESCRIPTION:Join us for the grand opening of Fullerton Grocery Outlet\, located at  120 N. Raymond Ave.\, Fullerton\, CA 94501 on Thursday\, September 27\, 2018.
X-ALT-DESC;FMTTYPE=text/html:Join&nbsp\;us for the grand opening of Fullerton Grocery Outlet\, located at&nbsp\;&#8203\;<span style="color: black\;">120 N. Raymond Ave.\,&nbsp\;</span><span style="color: black\;">Fullerton\, CA 94501 on Thursday\, September 27\, 2018.</span>
LOCATION:120 N. Raymond Ave. Fullerton\, CA 94501
UID:e.887.22657
SEQUENCE:3
DTSTAMP:20260422T191055Z
URL:https://nocchamber-gzcms.preview.gochambermaster.com/events/details/fullerton-grocery-outlet-ribbon-cutting-22657
END:VEVENT

END:VCALENDAR
