BEGIN:VCALENDAR
VERSION:2.0
PRODID:-//ChamberMaster//Event Calendar 2.0//EN
METHOD:PUBLISH
X-PUBLISHED-TTL:P3D
REFRESH-INTERVAL:P3D
CALSCALE:GREGORIAN
BEGIN:VEVENT
DTSTART:20151107T153000Z
DTEND:20151107T210000Z
X-MICROSOFT-CDO-ALLDAYEVENT:FALSE
SUMMARY:Fullerton Fire Department Open House and Pancake Breakfast
DESCRIPTION:Fullerton's firefighters are shining up their fire engines and polishing their boots to welcome the community to the 2015 Fire Department Pancake Breakfast and Open House. The Pancake Breakfast runs from 7:30 a.m. to 10 a.m. and the Open House will follow from 8 a.m. to 1 p.m. at the Fullerton Fire Headquarters located at 312 E. Commonwealth Avenue on Saturday\, Nov. 7.\n\n \n\nThe Pancake Breakfast will kick off the morning at 7:30 a.m. with all proceeds going to the Make-A-Wish Foundation. The $5/person breakfast tickets are available for pre-sale at Fire Headquarters. Tickets will be available at the door but seats are limited.\n\n \n\nFollowing the breakfast the public is invited to tour the Fullerton Fire Headquarters. In addition to tours of the facility\, guests will also experience firefighting demonstrations\, fire apparatus displays\, and activity booths for children.\n\n \n\nFurther information about the open house may be obtained by calling the Fire Prevention Division of the Fullerton Fire Department at (714) 738-6500.
X-ALT-DESC;FMTTYPE=text/html:<span style="line-height: 20.8px\;">Fullerton&rsquo\;s firefighters are shining up their fire engines and polishing their boots to welcome the community to the 2015 Fire Department Pancake Breakfast and Open House. The Pancake Breakfast runs from 7:30 a.m. to 10 a.m. and the Open House will follow from 8 a.m. to 1 p.m. at the Fullerton Fire Headquarters located at 312 E. Commonwealth Avenue on Saturday\, Nov. 7.</span><br style="line-height: 20.8px\;" />\n<span style="line-height: 20.8px\;">&nbsp\;</span><br style="line-height: 20.8px\;" />\n<span style="line-height: 20.8px\;">The Pancake Breakfast will kick off the morning at 7:30 a.m. with all proceeds going to the Make-A-Wish Foundation. The $5/person breakfast tickets are available for pre-sale at Fire Headquarters. Tickets will be available at the door but seats are limited.</span><br style="line-height: 20.8px\;" />\n<span style="line-height: 20.8px\;">&nbsp\;</span><br style="line-height: 20.8px\;" />\n<span style="line-height: 20.8px\;">Following the breakfast the public is invited to tour the Fullerton Fire Headquarters. In addition to tours of the facility\, guests will also experience firefighting demonstrations\, fire apparatus displays\, and activity booths for children.</span><br style="line-height: 20.8px\;" />\n<span style="line-height: 20.8px\;">&nbsp\;</span><br style="line-height: 20.8px\;" />\n<span style="line-height: 20.8px\;">Further information about the open house may be obtained by calling the Fire Prevention Division of the Fullerton Fire Department at (714) 738-6500.</span>
LOCATION:Fullerton Fire Headquarters 312 E. Commonwealth Ave.\, Fullerton
UID:e.887.12368
SEQUENCE:3
DTSTAMP:20260424T004836Z
URL:https://nocchamber-gzcms.preview.gochambermaster.com/events/details/fullerton-fire-department-open-house-and-pancake-breakfast-12368
END:VEVENT

END:VCALENDAR
