BEGIN:VCALENDAR
VERSION:2.0
PRODID:-//ChamberMaster//Event Calendar 2.0//EN
METHOD:PUBLISH
X-PUBLISHED-TTL:P3D
REFRESH-INTERVAL:P3D
CALSCALE:GREGORIAN
BEGIN:VEVENT
DTSTART:20160930T013000Z
DTEND:20160930T033000Z
X-MICROSOFT-CDO-ALLDAYEVENT:FALSE
SUMMARY:Fullerton City Council Candidates Forum
DESCRIPTION:Join us at the Fullerton City Council Candidates Forums and become better informed on issues impacting your community.\n\n \n\nSponsored by the League of Women Voters North Orange County & the NOC Chamber of Commerce.
X-ALT-DESC;FMTTYPE=text/html:<p>Join us at the Fullerton&nbsp\;City Council Candidates Forums and become better informed on issues impacting your community.<br />\n&nbsp\;</p>\n\n<p>Sponsored by the League of Women Voters North Orange County &amp\; the NOC Chamber of Commerce.</p>\n
LOCATION:Fullerton Public Library 353 W Commonwealth Ave\, Fullerton\, CA 92832
UID:e.887.14809
SEQUENCE:3
DTSTAMP:20260422T100857Z
URL:https://nocchamber-gzcms.preview.gochambermaster.com/events/details/fullerton-city-council-candidates-forum-14809
END:VEVENT

END:VCALENDAR
