BEGIN:VCALENDAR
VERSION:2.0
PRODID:-//ChamberMaster//Event Calendar 2.0//EN
METHOD:PUBLISH
X-PUBLISHED-TTL:P3D
REFRESH-INTERVAL:P3D
CALSCALE:GREGORIAN
BEGIN:VEVENT
DTSTART:20160925T200000Z
DTEND:20160925T230000Z
X-MICROSOFT-CDO-ALLDAYEVENT:FALSE
SUMMARY:Friends of the Library 3 Day Sale
DESCRIPTION:The Fullerton Public Library will be having a 3 day book sale for Friends of the Library.
X-ALT-DESC;FMTTYPE=text/html:The Fullerton Public Library will be having a 3 day book sale for Friends of the Library.&nbsp\;
LOCATION:Osborne Auditorium
UID:e.887.14821
SEQUENCE:3
DTSTAMP:20260422T101157Z
URL:https://nocchamber-gzcms.preview.gochambermaster.com/events/details/friends-of-the-library-3-day-sale-14821
END:VEVENT

END:VCALENDAR
