BEGIN:VCALENDAR
VERSION:2.0
PRODID:-//ChamberMaster//Event Calendar 2.0//EN
METHOD:PUBLISH
X-PUBLISHED-TTL:P3D
REFRESH-INTERVAL:P3D
CALSCALE:GREGORIAN
BEGIN:VEVENT
DTSTART:20180111T210000Z
DTEND:20180111T223000Z
X-MICROSOFT-CDO-ALLDAYEVENT:FALSE
SUMMARY:Free Thursday Matinees at the Fullerton Public Library - The Addams Family
DESCRIPTION:The Fullerton Public Library's Thursday Matinee film series offers a free classic movie each week. The selected films are usually chosen with a theme in mind\, often representing a popular genre\, actor\, director\, or subject. For January\, the theme of the series is "Classic 90's Movies." The selected films are:\n\n\n\nThe Addams Family (1991\, PG-13)                               January 11\n\nThe Big Lebowski (1998\, R)                                           January 18\n\nBraveheart (1995\, R)                                                      January 25\n\n \n\nAll films in the Thursday Matinee film series are screened in the library's Osborne Auditorium and begin at 1:00 p.m. Attendees are encouraged to bring their own light snacks and covered beverages\, but alcohol is not allowed. . Persons requiring special accommodations to attend the program are asked to notify library staff prior to screening time.
X-ALT-DESC;FMTTYPE=text/html:The Fullerton Public Library&rsquo\;s Thursday Matinee film series offers a free classic movie each week. The selected films are usually chosen with a theme in mind\, often representing a popular genre\, actor\, director\, or subject. For January\, the theme of the series is &ldquo\;Classic 90&rsquo\;s Movies.&rdquo\; The selected films are:<br />\n<br />\nThe Addams Family (1991\, PG-13)&nbsp\; &nbsp\; &nbsp\; &nbsp\; &nbsp\; &nbsp\; &nbsp\; &nbsp\; &nbsp\; &nbsp\; &nbsp\; &nbsp\; &nbsp\; &nbsp\; &nbsp\; &nbsp\;January 11<br />\nThe Big Lebowski (1998\, R)&nbsp\;&nbsp\;&nbsp\;&nbsp\;&nbsp\;&nbsp\;&nbsp\;&nbsp\;&nbsp\;&nbsp\;&nbsp\;&nbsp\;&nbsp\;&nbsp\;&nbsp\;&nbsp\;&nbsp\;&nbsp\;&nbsp\;&nbsp\;&nbsp\;&nbsp\;&nbsp\;&nbsp\;&nbsp\;&nbsp\;&nbsp\;&nbsp\;&nbsp\;&nbsp\;&nbsp\;&nbsp\;&nbsp\;&nbsp\;&nbsp\;&nbsp\;&nbsp\;&nbsp\;&nbsp\;&nbsp\;&nbsp\;&nbsp\; January 18<br />\nBraveheart (1995\, R)&nbsp\; &nbsp\; &nbsp\; &nbsp\; &nbsp\; &nbsp\; &nbsp\; &nbsp\; &nbsp\; &nbsp\; &nbsp\; &nbsp\; &nbsp\; &nbsp\; &nbsp\; &nbsp\; &nbsp\; &nbsp\; &nbsp\; &nbsp\; &nbsp\; &nbsp\; &nbsp\; &nbsp\; &nbsp\; &nbsp\; &nbsp\; January 25<br />\n&nbsp\;<br />\nAll films in the Thursday Matinee film series are screened in the library&rsquo\;s Osborne Auditorium and begin at 1:00 p.m. Attendees are encouraged to bring their own light snacks and covered beverages\, but alcohol is not allowed.&nbsp\;. Persons requiring special accommodations to attend the program are asked to notify library staff prior to screening time.<br />\n&nbsp\;
LOCATION:Fullerton Public Library Osborne Auditorium 353 W Commonwealth Ave\, Fullerton\, CA 92832
UID:e.887.17500
SEQUENCE:3
DTSTAMP:20260421T152124Z
URL:https://nocchamber-gzcms.preview.gochambermaster.com/events/details/free-thursday-matinees-at-the-fullerton-public-library-the-addams-family-17500
END:VEVENT

END:VCALENDAR
