BEGIN:VCALENDAR
VERSION:2.0
PRODID:-//ChamberMaster//Event Calendar 2.0//EN
METHOD:PUBLISH
X-PUBLISHED-TTL:P3D
REFRESH-INTERVAL:P3D
CALSCALE:GREGORIAN
BEGIN:VEVENT
DTSTART;VALUE=DATE:20150813
DTEND;VALUE=DATE:20150814
TRANSP:TRANSPARENT
X-MICROSOFT-CDO-ALLDAYEVENT:TRUE
SUMMARY:Free North Orange County Nonprofit Seminar
DESCRIPTION:The North Orange County Nonprofit Seminar for Establishing and Running Nonprofit and Exempt Organizations will be held on Thursday\, August 13 from 9 a.m. to 3:30 p.m.\n\nCheck-in begins at 8:30 a.m.\n\nDiscussion topics will include: sales and use tax for nonprofits\, compliance for exempt organizations\, employment taxes and nonprofits\, property tax exemptions\, and regulation of charities.\n\nThe California State Board of Equalization\, California Attorney General's Office\, Franchise Tax Board\, and California Taxpayers' Right Advocates are invited to present at the upcoming event. \n\nAll-day parking will be available for $8 at the Eastside parking structure.\n\n*Please enter Folino Drive from Nutwood Ave. to access the Eastside parking structure. Daily parking permit machines are located on levels 2\,4\, and 6 near the elevator. Place ticket on dashboard.\n\nAdmission is free.\n\nRegister online at www.boe.ca.gov/nps or by calling 1-888-847-9652.
X-ALT-DESC;FMTTYPE=text/html:<p style="margin: 0in 0in 10pt\;"><span style="color:#000000\;"><span style="font-size:14px\;"><span style="font-family:arial\;">The North Orange County Nonprofit Seminar for Establishing and Running Nonprofit and Exempt Organizations will be held on Thursday\, August 13 from 9 a.m. to 3:30 p.m.</span></span></span></p>\n\n<p style="margin: 0in 0in 10pt\;"><span style="color:#000000\;"><span style="font-size:14px\;"><span style="font-family:arial\;">Check-in begins at 8:30 a.m.</span></span></span></p>\n\n<p style="margin: 0in 0in 10pt\;"><span style="color:#000000\;"><span style="font-size:14px\;"><span style="font-family:arial\;">Discussion topics will include: sales and use tax for nonprofits\, compliance for exempt organizations\, employment taxes and nonprofits\, property tax exemptions\, and regulation of charities.</span></span></span></p>\n\n<p style="margin: 0in 0in 10pt\;"><span style="color:#000000\;"><span style="font-size:14px\;"><span style="font-family:arial\;">The California State Board of Equalization\, California Attorney General&rsquo\;s Office\, Franchise Tax Board\, and California Taxpayers&rsquo\; Right Advocates are invited to present at the upcoming event. </span></span></span></p>\n\n<p style="margin: 0in 0in 10pt\;"><span style="color:#000000\;"><span style="font-size:14px\;"><span style="font-family:arial\;">All-day parking will be available for $8 at the Eastside parking <em>structure.</em><br />\n<em>*Please enter Folino Drive from Nutwood Ave. to access the Eastside parking structure. Daily parking permit machines are located on levels 2\,4\, and 6 near the elevator. Place ticket on dashboard.</em></span></span></span></p>\n\n<p style="margin: 0in 0in 10pt\;"><span style="color:#000000\;"><span style="font-size:14px\;"><span style="font-family:arial\;">Admission is free.</span></span></span></p>\n\n<p style="margin: 0in 0in 10pt\;"><span style="font-size:14px\;"><span style="font-family:arial\;"><span style="color:#000000\;">Register online at </span><a href="http://www.boe.ca.gov/nps"><span style="color:#000000\;">www.boe.ca.gov/nps</span></a><span style="color:#000000\;"> or by calling 1-888-847-9652.</span></span></span></p>\n
LOCATION:California State University\, Fullerton Gianneschi Center for Nonprofit Research Steven G. Mihaylo Hall (SGMH)\, Room 1502 800 N. State College Blvd. Fullerton\, CA 92831
UID:e.887.11927
SEQUENCE:3
DTSTAMP:20260424T101637Z
URL:https://nocchamber-gzcms.preview.gochambermaster.com/events/details/free-north-orange-county-nonprofit-seminar-11927
END:VEVENT

END:VCALENDAR
