BEGIN:VCALENDAR
VERSION:2.0
PRODID:-//ChamberMaster//Event Calendar 2.0//EN
METHOD:PUBLISH
X-PUBLISHED-TTL:P3D
REFRESH-INTERVAL:P3D
CALSCALE:GREGORIAN
BEGIN:VEVENT
DTSTART:20160714T160000Z
DTEND:20160714T183000Z
X-MICROSOFT-CDO-ALLDAYEVENT:FALSE
SUMMARY:Fraud: How to Avoid it in Public Places
DESCRIPTION:The Orange County Auditor Controller and the ACC-OC are partnering to bring you a symposium on fraud in public places.\n\n \n\nThis free seminar will cover fraud\, especially in public agencies - from cities\, to school districts\, water districts and the county. Non-profits\, small trade associations and small businesses are encouraged to attend and gain valuable tools on how to protect themselves.\n\n \n\nAttendees will hear from an expert panel focused on how to identify areas of weakness within your organization and reduce the odds of it happening to you. There is no cost to register.
X-ALT-DESC;FMTTYPE=text/html:&nbsp\;The Orange County Auditor Controller and the ACC-OC are partnering to bring you a symposium on fraud in public places.<br />\n&nbsp\;<br />\nThis free seminar will cover fraud\, especially in public agencies - from cities\, to school districts\, water districts and the county. Non-profits\, small trade associations and small businesses are encouraged to&nbsp\;attend and gain valuable tools on how to protect themselves.<br />\n&nbsp\;<br />\nAttendees will hear from an expert panel focused on how to identify areas of weakness within your organization and reduce the odds of it happening to you. There is no cost to register.<br />\n&nbsp\;
LOCATION:Orange County Hall of Administration Board Hearing Room 10 Civic Center Plaza Santa Ana\, CA 92701
UID:e.887.14617
SEQUENCE:3
DTSTAMP:20260422T224754Z
URL:https://nocchamber-gzcms.preview.gochambermaster.com/events/details/fraud-how-to-avoid-it-in-public-places-14617
END:VEVENT

END:VCALENDAR
